BEGIN:VCALENDAR
VERSION:2.0
PRODID:-//Massachusetts Amateur Trapshooting Association - ECPv6.15.20//NONSGML v1.0//EN
CALSCALE:GREGORIAN
METHOD:PUBLISH
X-WR-CALNAME:Massachusetts Amateur Trapshooting Association
X-ORIGINAL-URL:https://massata.com
X-WR-CALDESC:Events for Massachusetts Amateur Trapshooting Association
REFRESH-INTERVAL;VALUE=DURATION:PT1H
X-Robots-Tag:noindex
X-PUBLISHED-TTL:PT1H
BEGIN:VTIMEZONE
TZID:America/New_York
BEGIN:DAYLIGHT
TZOFFSETFROM:-0500
TZOFFSETTO:-0400
TZNAME:EDT
DTSTART:20250309T070000
END:DAYLIGHT
BEGIN:STANDARD
TZOFFSETFROM:-0400
TZOFFSETTO:-0500
TZNAME:EST
DTSTART:20251102T060000
END:STANDARD
BEGIN:DAYLIGHT
TZOFFSETFROM:-0500
TZOFFSETTO:-0400
TZNAME:EDT
DTSTART:20260308T070000
END:DAYLIGHT
BEGIN:STANDARD
TZOFFSETFROM:-0400
TZOFFSETTO:-0500
TZNAME:EST
DTSTART:20261101T060000
END:STANDARD
BEGIN:DAYLIGHT
TZOFFSETFROM:-0500
TZOFFSETTO:-0400
TZNAME:EDT
DTSTART:20270314T070000
END:DAYLIGHT
BEGIN:STANDARD
TZOFFSETFROM:-0400
TZOFFSETTO:-0500
TZNAME:EST
DTSTART:20271107T060000
END:STANDARD
END:VTIMEZONE
BEGIN:VEVENT
DTSTART;TZID=America/New_York:20260603T000000
DTEND;TZID=America/New_York:20260603T000000
DTSTAMP:20260421T091951
CREATED:20260320T210057Z
LAST-MODIFIED:20260320T211425Z
UID:1815-1780444800-1780444800@massata.com
SUMMARY:Lee | Big 50 Shoot
DESCRIPTION:
URL:https://massata.com/event/lee-big-50-shoot/
LOCATION:Lee Sportsmen’s Association\, 565 Fairview Street\, Lee\, MA\, 01238
CATEGORIES:ATA Shoot
END:VEVENT
BEGIN:VEVENT
DTSTART;TZID=America/New_York:20260604T000000
DTEND;TZID=America/New_York:20260604T000000
DTSTAMP:20260421T091951
CREATED:20260320T210106Z
LAST-MODIFIED:20260320T211426Z
UID:1816-1780531200-1780531200@massata.com
SUMMARY:Tewksbury | SCTP League
DESCRIPTION:
URL:https://massata.com/event/tewksbury-sctp-league-11/
LOCATION:Tewksbury Rod & Gun Club\, 79 Chandler Street\, Tewksbury\, MA\, 01876
CATEGORIES:ATA Shoot
END:VEVENT
BEGIN:VEVENT
DTSTART;TZID=America/New_York:20260605T083000
DTEND;TZID=America/New_York:20260607T120000
DTSTAMP:20260421T091951
CREATED:20260320T202245Z
LAST-MODIFIED:20260320T202245Z
UID:1759-1780648200-1780833600@massata.com
SUMMARY:Rhode Island State Shoot
DESCRIPTION:
URL:https://massata.com/event/rhode-island-state-shoot-5/
LOCATION:Wallum Lake Rod and Gun Club\, 200 Brook Road\, Burrillville\, RI\, 02830
CATEGORIES:ATA Shoot
END:VEVENT
BEGIN:VEVENT
DTSTART;TZID=America/New_York:20260610T000000
DTEND;TZID=America/New_York:20260610T000000
DTSTAMP:20260421T091951
CREATED:20260320T210108Z
LAST-MODIFIED:20260320T211426Z
UID:1817-1781049600-1781049600@massata.com
SUMMARY:Lee | Big 50 Shoot
DESCRIPTION:
URL:https://massata.com/event/lee-big-50-shoot-2/
LOCATION:Lee Sportsmen’s Association\, 565 Fairview Street\, Lee\, MA\, 01238
CATEGORIES:ATA Shoot
END:VEVENT
BEGIN:VEVENT
DTSTART;TZID=America/New_York:20260611T000000
DTEND;TZID=America/New_York:20260611T000000
DTSTAMP:20260421T091951
CREATED:20260320T210110Z
LAST-MODIFIED:20260320T211427Z
UID:1818-1781136000-1781136000@massata.com
SUMMARY:Tewksbury | SCTP League
DESCRIPTION:
URL:https://massata.com/event/tewksbury-sctp-league-12/
LOCATION:Tewksbury Rod & Gun Club\, 79 Chandler Street\, Tewksbury\, MA\, 01876
CATEGORIES:ATA Shoot
END:VEVENT
BEGIN:VEVENT
DTSTART;TZID=America/New_York:20260611T083000
DTEND;TZID=America/New_York:20260614T120000
DTSTAMP:20260421T091951
CREATED:20260319T233014Z
LAST-MODIFIED:20260320T211427Z
UID:1493-1781166600-1781438400@massata.com
SUMMARY:Massachusetts State Shoot
DESCRIPTION:
URL:https://massata.com/event/ma-state-shoot/
LOCATION:Minute Man Sportsmen’s Club\, 56R Francis Wyman Road\, Burlington\, MA\, 01803
CATEGORIES:ATA Shoot
END:VEVENT
BEGIN:VEVENT
DTSTART;TZID=America/New_York:20260617T000000
DTEND;TZID=America/New_York:20260617T000000
DTSTAMP:20260421T091951
CREATED:20260320T210111Z
LAST-MODIFIED:20260320T211427Z
UID:1819-1781654400-1781654400@massata.com
SUMMARY:Holbrook | Big 50 Shoot
DESCRIPTION:
URL:https://massata.com/event/holbrook-big-50-shoot-2/
LOCATION:Holbrook Sportsmen’s Club\, 150 Quincy Street\, Holbrook\, MA\, 02343
CATEGORIES:ATA Shoot
END:VEVENT
BEGIN:VEVENT
DTSTART;TZID=America/New_York:20260617T000000
DTEND;TZID=America/New_York:20260617T000000
DTSTAMP:20260421T091951
CREATED:20260320T210122Z
LAST-MODIFIED:20260320T211441Z
UID:1820-1781654400-1781654400@massata.com
SUMMARY:Lee | Big 50 Shoot
DESCRIPTION:
URL:https://massata.com/event/lee-big-50-shoot-3/
LOCATION:Lee Sportsmen’s Association\, 565 Fairview Street\, Lee\, MA\, 01238
CATEGORIES:ATA Shoot
END:VEVENT
BEGIN:VEVENT
DTSTART;TZID=America/New_York:20260618T000000
DTEND;TZID=America/New_York:20260618T000000
DTSTAMP:20260421T091951
CREATED:20260320T210123Z
LAST-MODIFIED:20260320T211441Z
UID:1821-1781740800-1781740800@massata.com
SUMMARY:Tewksbury | SCTP League
DESCRIPTION:
URL:https://massata.com/event/tewksbury-sctp-league-13/
LOCATION:Tewksbury Rod & Gun Club\, 79 Chandler Street\, Tewksbury\, MA\, 01876
CATEGORIES:ATA Shoot
END:VEVENT
BEGIN:VEVENT
DTSTART;TZID=America/New_York:20260619T083000
DTEND;TZID=America/New_York:20260621T120000
DTSTAMP:20260421T091951
CREATED:20260320T203246Z
LAST-MODIFIED:20260320T203246Z
UID:1764-1781857800-1782043200@massata.com
SUMMARY:Vermont State Shoot
DESCRIPTION:
URL:https://massata.com/event/vermont-state-shoot-2/
LOCATION:Montpelier Gun Club\, 240 Goodnow Road\, Berlin\, VT\, 05602\, United States
CATEGORIES:ATA Shoot
END:VEVENT
BEGIN:VEVENT
DTSTART;TZID=America/New_York:20260624T000000
DTEND;TZID=America/New_York:20260624T000000
DTSTAMP:20260421T091951
CREATED:20260320T210125Z
LAST-MODIFIED:20260320T211442Z
UID:1822-1782259200-1782259200@massata.com
SUMMARY:Lee | Big 50 Shoot
DESCRIPTION:
URL:https://massata.com/event/lee-big-50-shoot-4/
LOCATION:Lee Sportsmen’s Association\, 565 Fairview Street\, Lee\, MA\, 01238
CATEGORIES:ATA Shoot
END:VEVENT
BEGIN:VEVENT
DTSTART;TZID=America/New_York:20260625T000000
DTEND;TZID=America/New_York:20260625T000000
DTSTAMP:20260421T091951
CREATED:20260320T210126Z
LAST-MODIFIED:20260320T211442Z
UID:1823-1782345600-1782345600@massata.com
SUMMARY:Tewksbury | SCTP League
DESCRIPTION:
URL:https://massata.com/event/tewksbury-sctp-league-14/
LOCATION:Tewksbury Rod & Gun Club\, 79 Chandler Street\, Tewksbury\, MA\, 01876
CATEGORIES:ATA Shoot
END:VEVENT
BEGIN:VEVENT
DTSTART;TZID=America/New_York:20260626T083000
DTEND;TZID=America/New_York:20260628T120000
DTSTAMP:20260421T091951
CREATED:20260320T203459Z
LAST-MODIFIED:20260320T203459Z
UID:1767-1782462600-1782648000@massata.com
SUMMARY:Connecticut State Shoot
DESCRIPTION:
URL:https://massata.com/event/connecticut-state-shoot-2/
LOCATION:Hartford Gun Club\, 157 S. Main St.\, East Granby\, CT\, 06026
CATEGORIES:ATA Shoot
END:VEVENT
END:VCALENDAR