BEGIN:VCALENDAR
VERSION:2.0
PRODID:-//Massachusetts Amateur Trapshooting Association - ECPv6.15.20//NONSGML v1.0//EN
CALSCALE:GREGORIAN
METHOD:PUBLISH
X-WR-CALNAME:Massachusetts Amateur Trapshooting Association
X-ORIGINAL-URL:https://massata.com
X-WR-CALDESC:Events for Massachusetts Amateur Trapshooting Association
REFRESH-INTERVAL;VALUE=DURATION:PT1H
X-Robots-Tag:noindex
X-PUBLISHED-TTL:PT1H
BEGIN:VTIMEZONE
TZID:America/New_York
BEGIN:DAYLIGHT
TZOFFSETFROM:-0500
TZOFFSETTO:-0400
TZNAME:EDT
DTSTART:20250309T070000
END:DAYLIGHT
BEGIN:STANDARD
TZOFFSETFROM:-0400
TZOFFSETTO:-0500
TZNAME:EST
DTSTART:20251102T060000
END:STANDARD
BEGIN:DAYLIGHT
TZOFFSETFROM:-0500
TZOFFSETTO:-0400
TZNAME:EDT
DTSTART:20260308T070000
END:DAYLIGHT
BEGIN:STANDARD
TZOFFSETFROM:-0400
TZOFFSETTO:-0500
TZNAME:EST
DTSTART:20261101T060000
END:STANDARD
BEGIN:DAYLIGHT
TZOFFSETFROM:-0500
TZOFFSETTO:-0400
TZNAME:EDT
DTSTART:20270314T070000
END:DAYLIGHT
BEGIN:STANDARD
TZOFFSETFROM:-0400
TZOFFSETTO:-0500
TZNAME:EST
DTSTART:20271107T060000
END:STANDARD
END:VTIMEZONE
BEGIN:VEVENT
DTSTART;TZID=America/New_York:20260423T000000
DTEND;TZID=America/New_York:20260423T000000
DTSTAMP:20260421T060826
CREATED:20260320T205951Z
LAST-MODIFIED:20260320T211350Z
UID:1791-1776902400-1776902400@massata.com
SUMMARY:Tewksbury | SCTP League
DESCRIPTION:
URL:https://massata.com/event/tewksbury-sctp-league-5/
LOCATION:Tewksbury Rod & Gun Club\, 79 Chandler Street\, Tewksbury\, MA\, 01876
CATEGORIES:ATA Shoot
END:VEVENT
BEGIN:VEVENT
DTSTART;TZID=America/New_York:20260423T000000
DTEND;TZID=America/New_York:20260423T000000
DTSTAMP:20260421T060826
CREATED:20260320T205953Z
LAST-MODIFIED:20260320T211350Z
UID:1792-1776902400-1776902400@massata.com
SUMMARY:Westford | ATA League Shoot
DESCRIPTION:
URL:https://massata.com/event/westford-ata-league-shoot-4/
LOCATION:Westford Sportsmen’s Club\, 80 West Street\, Westford\, MA\, 01886
CATEGORIES:ATA Shoot
END:VEVENT
BEGIN:VEVENT
DTSTART;TZID=America/New_York:20260426T083000
DTEND;TZID=America/New_York:20260426T120000
DTSTAMP:20260421T060826
CREATED:20260320T205955Z
LAST-MODIFIED:20260320T211351Z
UID:1794-1777192200-1777204800@massata.com
SUMMARY:Fitchburg | Swallow Hill Shoot
DESCRIPTION:
URL:https://massata.com/event/fitchburg-swallow-hill-shoot/
LOCATION:Fitchburg Rod & Gun Club\, 985 Richardson Road\, Ashby\, MA\, 01431
CATEGORIES:ATA Shoot
END:VEVENT
BEGIN:VEVENT
DTSTART;TZID=America/New_York:20260430T000000
DTEND;TZID=America/New_York:20260430T000000
DTSTAMP:20260421T060826
CREATED:20260320T205957Z
LAST-MODIFIED:20260320T211351Z
UID:1795-1777507200-1777507200@massata.com
SUMMARY:Tewksbury | Big 50 Shoot
DESCRIPTION:
URL:https://massata.com/event/tewksbury-big-50-shoot-2/
LOCATION:Tewksbury Rod & Gun Club\, 79 Chandler Street\, Tewksbury\, MA\, 01876
CATEGORIES:ATA Shoot
END:VEVENT
BEGIN:VEVENT
DTSTART;TZID=America/New_York:20260430T000000
DTEND;TZID=America/New_York:20260430T000000
DTSTAMP:20260421T060826
CREATED:20260320T210006Z
LAST-MODIFIED:20260320T211405Z
UID:1796-1777507200-1777507200@massata.com
SUMMARY:Tewksbury | SCTP League
DESCRIPTION:
URL:https://massata.com/event/tewksbury-sctp-league-6/
LOCATION:Tewksbury Rod & Gun Club\, 79 Chandler Street\, Tewksbury\, MA\, 01876
CATEGORIES:ATA Shoot
END:VEVENT
BEGIN:VEVENT
DTSTART;TZID=America/New_York:20260430T000000
DTEND;TZID=America/New_York:20260430T000000
DTSTAMP:20260421T060826
CREATED:20260320T210008Z
LAST-MODIFIED:20260320T211405Z
UID:1797-1777507200-1777507200@massata.com
SUMMARY:Westford | ATA League Shoot
DESCRIPTION:
URL:https://massata.com/event/westford-ata-league-shoot-5/
LOCATION:Westford Sportsmen’s Club\, 80 West Street\, Westford\, MA\, 01886
CATEGORIES:ATA Shoot
END:VEVENT
END:VCALENDAR