BEGIN:VCALENDAR
VERSION:2.0
PRODID:-//Massachusetts Amateur Trapshooting Association - ECPv6.15.20//NONSGML v1.0//EN
CALSCALE:GREGORIAN
METHOD:PUBLISH
X-ORIGINAL-URL:https://massata.com
X-WR-CALDESC:Events for Massachusetts Amateur Trapshooting Association
REFRESH-INTERVAL;VALUE=DURATION:PT1H
X-Robots-Tag:noindex
X-PUBLISHED-TTL:PT1H
BEGIN:VTIMEZONE
TZID:America/New_York
BEGIN:DAYLIGHT
TZOFFSETFROM:-0500
TZOFFSETTO:-0400
TZNAME:EDT
DTSTART:20250309T070000
END:DAYLIGHT
BEGIN:STANDARD
TZOFFSETFROM:-0400
TZOFFSETTO:-0500
TZNAME:EST
DTSTART:20251102T060000
END:STANDARD
BEGIN:DAYLIGHT
TZOFFSETFROM:-0500
TZOFFSETTO:-0400
TZNAME:EDT
DTSTART:20260308T070000
END:DAYLIGHT
BEGIN:STANDARD
TZOFFSETFROM:-0400
TZOFFSETTO:-0500
TZNAME:EST
DTSTART:20261101T060000
END:STANDARD
BEGIN:DAYLIGHT
TZOFFSETFROM:-0500
TZOFFSETTO:-0400
TZNAME:EDT
DTSTART:20270314T070000
END:DAYLIGHT
BEGIN:STANDARD
TZOFFSETFROM:-0400
TZOFFSETTO:-0500
TZNAME:EST
DTSTART:20271107T060000
END:STANDARD
BEGIN:DAYLIGHT
TZOFFSETFROM:-0500
TZOFFSETTO:-0400
TZNAME:EDT
DTSTART:20280312T070000
END:DAYLIGHT
BEGIN:STANDARD
TZOFFSETFROM:-0400
TZOFFSETTO:-0500
TZNAME:EST
DTSTART:20281105T060000
END:STANDARD
END:VTIMEZONE
BEGIN:VEVENT
DTSTART;TZID=America/New_York:20261216T000000
DTEND;TZID=America/New_York:20261216T000000
DTSTAMP:20260421T210159
CREATED:20260320T210313Z
LAST-MODIFIED:20260320T212024Z
UID:1871-1797379200-1797379200@massata.com
SUMMARY:Woburn | Frozen Pair League
DESCRIPTION:
URL:https://massata.com/event/woburn-frozen-pair-league-3/
LOCATION:Woburn Sportsman Club\, 155 Middlesex Turnpike\, Bedford\, MA\, 01730
CATEGORIES:ATA Shoot
END:VEVENT
BEGIN:VEVENT
DTSTART;TZID=America/New_York:20261223T000000
DTEND;TZID=America/New_York:20261223T000000
DTSTAMP:20260421T210159
CREATED:20260320T210314Z
LAST-MODIFIED:20260320T212025Z
UID:1872-1797984000-1797984000@massata.com
SUMMARY:Woburn | Frozen Pair League
DESCRIPTION:
URL:https://massata.com/event/woburn-frozen-pair-league-4/
LOCATION:Woburn Sportsman Club\, 155 Middlesex Turnpike\, Bedford\, MA\, 01730
CATEGORIES:ATA Shoot
END:VEVENT
BEGIN:VEVENT
DTSTART;TZID=America/New_York:20261230T000000
DTEND;TZID=America/New_York:20261230T000000
DTSTAMP:20260421T210159
CREATED:20260320T210315Z
LAST-MODIFIED:20260320T212025Z
UID:1873-1798588800-1798588800@massata.com
SUMMARY:Woburn | Frozen Pair League
DESCRIPTION:
URL:https://massata.com/event/woburn-frozen-pair-league-5/
LOCATION:Woburn Sportsman Club\, 155 Middlesex Turnpike\, Bedford\, MA\, 01730
CATEGORIES:ATA Shoot
END:VEVENT
BEGIN:VEVENT
DTSTART;TZID=America/New_York:20270106T000000
DTEND;TZID=America/New_York:20270106T000000
DTSTAMP:20260421T210159
CREATED:20260320T210316Z
LAST-MODIFIED:20260320T212025Z
UID:1874-1799193600-1799193600@massata.com
SUMMARY:Woburn | Frozen Pair League
DESCRIPTION:
URL:https://massata.com/event/woburn-frozen-pair-league-6/
LOCATION:Woburn Sportsman Club\, 155 Middlesex Turnpike\, Bedford\, MA\, 01730
CATEGORIES:ATA Shoot
END:VEVENT
BEGIN:VEVENT
DTSTART;TZID=America/New_York:20270113T000000
DTEND;TZID=America/New_York:20270113T000000
DTSTAMP:20260421T210159
CREATED:20260320T210327Z
LAST-MODIFIED:20260320T212028Z
UID:1875-1799798400-1799798400@massata.com
SUMMARY:Woburn | Frozen Pair League
DESCRIPTION:
URL:https://massata.com/event/woburn-frozen-pair-league-7/
LOCATION:Woburn Sportsman Club\, 155 Middlesex Turnpike\, Bedford\, MA\, 01730
CATEGORIES:ATA Shoot
END:VEVENT
BEGIN:VEVENT
DTSTART;TZID=America/New_York:20270120T000000
DTEND;TZID=America/New_York:20270120T000000
DTSTAMP:20260421T210159
CREATED:20260320T210328Z
LAST-MODIFIED:20260320T212028Z
UID:1876-1800403200-1800403200@massata.com
SUMMARY:Woburn | Frozen Pair League
DESCRIPTION:
URL:https://massata.com/event/woburn-frozen-pair-league-8/
LOCATION:Woburn Sportsman Club\, 155 Middlesex Turnpike\, Bedford\, MA\, 01730
CATEGORIES:ATA Shoot
END:VEVENT
BEGIN:VEVENT
DTSTART;TZID=America/New_York:20270127T000000
DTEND;TZID=America/New_York:20270127T000000
DTSTAMP:20260421T210159
CREATED:20260320T210329Z
LAST-MODIFIED:20260320T212029Z
UID:1877-1801008000-1801008000@massata.com
SUMMARY:Woburn | Frozen Pair League
DESCRIPTION:
URL:https://massata.com/event/woburn-frozen-pair-league-9/
LOCATION:Woburn Sportsman Club\, 155 Middlesex Turnpike\, Bedford\, MA\, 01730
CATEGORIES:ATA Shoot
END:VEVENT
BEGIN:VEVENT
DTSTART;TZID=America/New_York:20270203T000000
DTEND;TZID=America/New_York:20270203T000000
DTSTAMP:20260421T210159
CREATED:20260320T210330Z
LAST-MODIFIED:20260320T212029Z
UID:1878-1801612800-1801612800@massata.com
SUMMARY:Woburn | Frozen Pair League
DESCRIPTION:
URL:https://massata.com/event/woburn-frozen-pair-league-10/
LOCATION:Woburn Sportsman Club\, 155 Middlesex Turnpike\, Bedford\, MA\, 01730
CATEGORIES:ATA Shoot
END:VEVENT
BEGIN:VEVENT
DTSTART;TZID=America/New_York:20270210T000000
DTEND;TZID=America/New_York:20270210T000000
DTSTAMP:20260421T210159
CREATED:20260320T210331Z
LAST-MODIFIED:20260320T212030Z
UID:1879-1802217600-1802217600@massata.com
SUMMARY:Woburn | Frozen Pair League
DESCRIPTION:
URL:https://massata.com/event/woburn-frozen-pair-league-11/
LOCATION:Woburn Sportsman Club\, 155 Middlesex Turnpike\, Bedford\, MA\, 01730
CATEGORIES:ATA Shoot
END:VEVENT
BEGIN:VEVENT
DTSTART;TZID=America/New_York:20270217T000000
DTEND;TZID=America/New_York:20270217T000000
DTSTAMP:20260421T210159
CREATED:20260320T210342Z
LAST-MODIFIED:20260320T212043Z
UID:1880-1802822400-1802822400@massata.com
SUMMARY:Woburn | Frozen Pair League
DESCRIPTION:
URL:https://massata.com/event/woburn-frozen-pair-league-12/
LOCATION:Woburn Sportsman Club\, 155 Middlesex Turnpike\, Bedford\, MA\, 01730
CATEGORIES:ATA Shoot
END:VEVENT
BEGIN:VEVENT
DTSTART;TZID=America/New_York:20270224T000000
DTEND;TZID=America/New_York:20270224T000000
DTSTAMP:20260421T210159
CREATED:20260320T210343Z
LAST-MODIFIED:20260320T212044Z
UID:1881-1803427200-1803427200@massata.com
SUMMARY:Woburn | Frozen Pair League
DESCRIPTION:
URL:https://massata.com/event/woburn-frozen-pair-league-13/
LOCATION:Woburn Sportsman Club\, 155 Middlesex Turnpike\, Bedford\, MA\, 01730
CATEGORIES:ATA Shoot
END:VEVENT
END:VCALENDAR