BEGIN:VCALENDAR
VERSION:2.0
PRODID:-//Massachusetts Amateur Trapshooting Association - ECPv6.15.20//NONSGML v1.0//EN
CALSCALE:GREGORIAN
METHOD:PUBLISH
X-WR-CALNAME:Massachusetts Amateur Trapshooting Association
X-ORIGINAL-URL:https://massata.com
X-WR-CALDESC:Events for Massachusetts Amateur Trapshooting Association
REFRESH-INTERVAL;VALUE=DURATION:PT1H
X-Robots-Tag:noindex
X-PUBLISHED-TTL:PT1H
BEGIN:VTIMEZONE
TZID:America/New_York
BEGIN:DAYLIGHT
TZOFFSETFROM:-0500
TZOFFSETTO:-0400
TZNAME:EDT
DTSTART:20200308T070000
END:DAYLIGHT
BEGIN:STANDARD
TZOFFSETFROM:-0400
TZOFFSETTO:-0500
TZNAME:EST
DTSTART:20201101T060000
END:STANDARD
BEGIN:DAYLIGHT
TZOFFSETFROM:-0500
TZOFFSETTO:-0400
TZNAME:EDT
DTSTART:20210314T070000
END:DAYLIGHT
BEGIN:STANDARD
TZOFFSETFROM:-0400
TZOFFSETTO:-0500
TZNAME:EST
DTSTART:20211107T060000
END:STANDARD
BEGIN:DAYLIGHT
TZOFFSETFROM:-0500
TZOFFSETTO:-0400
TZNAME:EDT
DTSTART:20220313T070000
END:DAYLIGHT
BEGIN:STANDARD
TZOFFSETFROM:-0400
TZOFFSETTO:-0500
TZNAME:EST
DTSTART:20221106T060000
END:STANDARD
BEGIN:DAYLIGHT
TZOFFSETFROM:-0500
TZOFFSETTO:-0400
TZNAME:EDT
DTSTART:20230312T070000
END:DAYLIGHT
BEGIN:STANDARD
TZOFFSETFROM:-0400
TZOFFSETTO:-0500
TZNAME:EST
DTSTART:20231105T060000
END:STANDARD
END:VTIMEZONE
BEGIN:VTIMEZONE
TZID:UTC
BEGIN:STANDARD
TZOFFSETFROM:+0000
TZOFFSETTO:+0000
TZNAME:UTC
DTSTART:20210101T000000
END:STANDARD
END:VTIMEZONE
BEGIN:VEVENT
DTSTART;VALUE=DATE:20220505
DTEND;VALUE=DATE:20220506
DTSTAMP:20260419T220941
CREATED:20220314T000407Z
LAST-MODIFIED:20220323T210652Z
UID:557-1651708800-1651795199@massata.com
SUMMARY:Tewksbury "Big 50"
DESCRIPTION:
URL:https://massata.com/event/tewksbury-big-50-2/
LOCATION:Tewksbury Rod & Gun Club\, 79 Chandler Street\, Tewksbury\, MA\, 01876
CATEGORIES:Big 50
ATTACH;FMTTYPE=image/png:https://massata.com/wp-content/uploads/2021/10/Tewksbury_Logo_Final.png
END:VEVENT
BEGIN:VEVENT
DTSTART;VALUE=DATE:20220501
DTEND;VALUE=DATE:20220502
DTSTAMP:20260419T220941
CREATED:20220314T000206Z
LAST-MODIFIED:20220323T210731Z
UID:554-1651363200-1651449599@massata.com
SUMMARY:Spring Shoot
DESCRIPTION:
URL:https://massata.com/event/spring-shoot/
LOCATION:Minute Man Sportsmen’s Club\, 56R Francis Wyman Road\, Burlington\, MA\, 01803
CATEGORIES:ATA Shoot
ATTACH;FMTTYPE=image/png:https://massata.com/wp-content/uploads/2021/10/MinuteMan_Logo_Final.png
END:VEVENT
BEGIN:VEVENT
DTSTART;VALUE=DATE:20220428
DTEND;VALUE=DATE:20220429
DTSTAMP:20260419T220941
CREATED:20220319T180418Z
LAST-MODIFIED:20220323T210848Z
UID:692-1651104000-1651190399@massata.com
SUMMARY:Tewksbury Junior League
DESCRIPTION:
URL:https://massata.com/event/tewksbury-junior-league-5/
LOCATION:Tewksbury Rod & Gun Club\, 79 Chandler Street\, Tewksbury\, MA\, 01876
CATEGORIES:Junior Event
ATTACH;FMTTYPE=image/png:https://massata.com/wp-content/uploads/2021/10/Tewksbury_Logo_Final.png
END:VEVENT
BEGIN:VEVENT
DTSTART;TZID=America/New_York:20220424T090000
DTEND;TZID=America/New_York:20220424T140000
DTSTAMP:20260419T220941
CREATED:20220313T235707Z
LAST-MODIFIED:20220328T050458Z
UID:552-1650790800-1650808800@massata.com
SUMMARY:Chasing the Middle 50
DESCRIPTION:
URL:https://massata.com/event/chasing-the-middle-50/
LOCATION:North Leominster Rod & Gun Club\, 1501 Lancaster Avenue\, Lunenburg\, MA\, 01462\, United States
CATEGORIES:ATA Shoot
ATTACH;FMTTYPE=image/png:https://massata.com/wp-content/uploads/2021/10/cropped-nlrg-e1609268403669-2.png
END:VEVENT
BEGIN:VEVENT
DTSTART;TZID=America/New_York:20220423T090000
DTEND;TZID=America/New_York:20220423T130000
DTSTAMP:20260419T220941
CREATED:20220402T223644Z
LAST-MODIFIED:20220402T223644Z
UID:842-1650704400-1650718800@massata.com
SUMMARY:Hopkinton Marathon
DESCRIPTION:
URL:https://massata.com/event/hopkinton-marathon-2/
LOCATION:Hopkinton Sportsmen’s Association\, 95 Lumber Street\, Hopkinton\, MA\, 01748
CATEGORIES:Marathon
ATTACH;FMTTYPE=image/png:https://massata.com/wp-content/uploads/2021/10/Hopkinton_Logo_Final.png
END:VEVENT
BEGIN:VEVENT
DTSTART;VALUE=DATE:20220423
DTEND;VALUE=DATE:20220424
DTSTAMP:20260419T220941
CREATED:20220313T234825Z
LAST-MODIFIED:20220323T210905Z
UID:550-1650672000-1650758399@massata.com
SUMMARY:Tewksbury Marathon
DESCRIPTION:
URL:https://massata.com/event/tewksbury-marathon/
LOCATION:Tewksbury Rod & Gun Club\, 79 Chandler Street\, Tewksbury\, MA\, 01876
CATEGORIES:Marathon
ATTACH;FMTTYPE=image/png:https://massata.com/wp-content/uploads/2021/10/Tewksbury_Logo_Final.png
END:VEVENT
BEGIN:VEVENT
DTSTART;VALUE=DATE:20220421
DTEND;VALUE=DATE:20220422
DTSTAMP:20260419T220941
CREATED:20220319T180222Z
LAST-MODIFIED:20220323T210924Z
UID:690-1650499200-1650585599@massata.com
SUMMARY:Tewksbury Junior League
DESCRIPTION:
URL:https://massata.com/event/tewksbury-junior-league-4/
LOCATION:Tewksbury Rod & Gun Club\, 79 Chandler Street\, Tewksbury\, MA\, 01876
CATEGORIES:Junior Event
ATTACH;FMTTYPE=image/png:https://massata.com/wp-content/uploads/2021/10/Tewksbury_Logo_Final.png
END:VEVENT
BEGIN:VEVENT
DTSTART;VALUE=DATE:20220416
DTEND;VALUE=DATE:20220417
DTSTAMP:20260419T220941
CREATED:20220313T234650Z
LAST-MODIFIED:20220323T210958Z
UID:547-1650067200-1650153599@massata.com
SUMMARY:Westford Marathon
DESCRIPTION:
URL:https://massata.com/event/westford-marathon/
LOCATION:Westford Sportsmen’s Club\, 80 West Street\, Westford\, MA\, 01886
CATEGORIES:Marathon
ATTACH;FMTTYPE=image/png:https://massata.com/wp-content/uploads/2021/10/Westford_Logo_Final.png
END:VEVENT
BEGIN:VEVENT
DTSTART;VALUE=DATE:20220414
DTEND;VALUE=DATE:20220415
DTSTAMP:20260419T220941
CREATED:20220319T180114Z
LAST-MODIFIED:20220323T211231Z
UID:688-1649894400-1649980799@massata.com
SUMMARY:Tewksbury Junior League
DESCRIPTION:
URL:https://massata.com/event/tewksbury-junior-league-3/
LOCATION:Tewksbury Rod & Gun Club\, 79 Chandler Street\, Tewksbury\, MA\, 01876
CATEGORIES:Junior Event
ATTACH;FMTTYPE=image/png:https://massata.com/wp-content/uploads/2021/10/Tewksbury_Logo_Final.png
END:VEVENT
BEGIN:VEVENT
DTSTART;VALUE=DATE:20220414
DTEND;VALUE=DATE:20220415
DTSTAMP:20260419T220941
CREATED:20220313T234153Z
LAST-MODIFIED:20220323T211210Z
UID:543-1649894400-1649980799@massata.com
SUMMARY:Tewksbury "Big 50"
DESCRIPTION:
URL:https://massata.com/event/tewksbury-big-50/
LOCATION:Tewksbury Rod & Gun Club\, 79 Chandler Street\, Tewksbury\, MA\, 01876
CATEGORIES:Big 50
ATTACH;FMTTYPE=image/png:https://massata.com/wp-content/uploads/2021/10/Tewksbury_Logo_Final.png
END:VEVENT
BEGIN:VEVENT
DTSTART;TZID=America/New_York:20220410T090000
DTEND;TZID=America/New_York:20220410T130000
DTSTAMP:20260419T220941
CREATED:20220313T233853Z
LAST-MODIFIED:20220323T211146Z
UID:540-1649581200-1649595600@massata.com
SUMMARY:Welcome Back Shoot
DESCRIPTION:
URL:https://massata.com/event/welcome-back-shoot/
LOCATION:Royalston Fish & Game Club\, 49 Main Street\, Phillipston\, MA\, 01331
CATEGORIES:ATA Shoot
ATTACH;FMTTYPE=image/png:https://massata.com/wp-content/uploads/2021/10/Royalston_Logo_Final.png
END:VEVENT
BEGIN:VEVENT
DTSTART;TZID=UTC:20220409T090000
DTEND;TZID=UTC:20220409T130000
DTSTAMP:20260419T220941
CREATED:20220313T233444Z
LAST-MODIFIED:20220402T223819Z
UID:537-1649494800-1649509200@massata.com
SUMMARY:High Flyers Marathon
DESCRIPTION:
URL:https://massata.com/event/hopkinton-marathon/
LOCATION:North Leominster Rod & Gun Club\, 1501 Lancaster Avenue\, Lunenburg\, MA\, 01462\, United States
CATEGORIES:Marathon
ATTACH;FMTTYPE=image/png:https://massata.com/wp-content/uploads/2021/10/cropped-nlrg-e1609268403669-2.png
END:VEVENT
BEGIN:VEVENT
DTSTART;VALUE=DATE:20220407
DTEND;VALUE=DATE:20220408
DTSTAMP:20260419T220941
CREATED:20220319T175936Z
LAST-MODIFIED:20220323T211125Z
UID:686-1649289600-1649375999@massata.com
SUMMARY:Tewksbury Junior League
DESCRIPTION:
URL:https://massata.com/event/tewksbury-junior-league-2/
LOCATION:Tewksbury Rod & Gun Club\, 79 Chandler Street\, Tewksbury\, MA\, 01876
CATEGORIES:Junior Event
ATTACH;FMTTYPE=image/png:https://massata.com/wp-content/uploads/2021/10/Tewksbury_Logo_Final.png
END:VEVENT
BEGIN:VEVENT
DTSTART;VALUE=DATE:20220331
DTEND;VALUE=DATE:20220401
DTSTAMP:20260419T220941
CREATED:20220313T232614Z
LAST-MODIFIED:20220323T211107Z
UID:531-1648684800-1648771199@massata.com
SUMMARY:Tewksbury Junior League
DESCRIPTION:Visit Tewskbury Rod & Gun Club for more details. \nLeague is every Thursday from 3/31/2022 – 7/21/2022
URL:https://massata.com/event/tewksbury-junior-league/
LOCATION:Tewksbury Rod & Gun Club\, 79 Chandler Street\, Tewksbury\, MA\, 01876
CATEGORIES:Junior Event
ATTACH;FMTTYPE=image/png:https://massata.com/wp-content/uploads/2021/10/Tewksbury_Logo_Final.png
END:VEVENT
BEGIN:VEVENT
DTSTART;TZID=America/New_York:20211103T180000
DTEND;TZID=America/New_York:20211103T193000
DTSTAMP:20260419T220941
CREATED:20211029T053809Z
LAST-MODIFIED:20220323T205853Z
UID:157-1635962400-1635967800@massata.com
SUMMARY:Mass ATA Meeting
DESCRIPTION:
URL:https://massata.com/event/mass-ata-meeting/
LOCATION:North Leominster Rod & Gun Club\, 1501 Lancaster Avenue\, Lunenburg\, MA\, 01462\, United States
ATTACH;FMTTYPE=image/gif:https://massata.com/wp-content/uploads/2021/10/mata_logo.gif
END:VEVENT
END:VCALENDAR