BEGIN:VCALENDAR
VERSION:2.0
PRODID:-//Massachusetts Amateur Trapshooting Association - ECPv6.15.20//NONSGML v1.0//EN
CALSCALE:GREGORIAN
METHOD:PUBLISH
X-ORIGINAL-URL:https://massata.com
X-WR-CALDESC:Events for Massachusetts Amateur Trapshooting Association
REFRESH-INTERVAL;VALUE=DURATION:PT1H
X-Robots-Tag:noindex
X-PUBLISHED-TTL:PT1H
BEGIN:VTIMEZONE
TZID:America/New_York
BEGIN:DAYLIGHT
TZOFFSETFROM:-0500
TZOFFSETTO:-0400
TZNAME:EDT
DTSTART:20250309T070000
END:DAYLIGHT
BEGIN:STANDARD
TZOFFSETFROM:-0400
TZOFFSETTO:-0500
TZNAME:EST
DTSTART:20251102T060000
END:STANDARD
BEGIN:DAYLIGHT
TZOFFSETFROM:-0500
TZOFFSETTO:-0400
TZNAME:EDT
DTSTART:20260308T070000
END:DAYLIGHT
BEGIN:STANDARD
TZOFFSETFROM:-0400
TZOFFSETTO:-0500
TZNAME:EST
DTSTART:20261101T060000
END:STANDARD
BEGIN:DAYLIGHT
TZOFFSETFROM:-0500
TZOFFSETTO:-0400
TZNAME:EDT
DTSTART:20270314T070000
END:DAYLIGHT
BEGIN:STANDARD
TZOFFSETFROM:-0400
TZOFFSETTO:-0500
TZNAME:EST
DTSTART:20271107T060000
END:STANDARD
END:VTIMEZONE
BEGIN:VEVENT
DTSTART;TZID=America/New_York:20260624T000000
DTEND;TZID=America/New_York:20260624T000000
DTSTAMP:20260420T043919
CREATED:20260320T210125Z
LAST-MODIFIED:20260320T211442Z
UID:1822-1782259200-1782259200@massata.com
SUMMARY:Lee | Big 50 Shoot
DESCRIPTION:
URL:https://massata.com/event/lee-big-50-shoot-4/
LOCATION:Lee Sportsmen’s Association\, 565 Fairview Street\, Lee\, MA\, 01238
CATEGORIES:ATA Shoot
END:VEVENT
BEGIN:VEVENT
DTSTART;TZID=America/New_York:20260625T000000
DTEND;TZID=America/New_York:20260625T000000
DTSTAMP:20260420T043919
CREATED:20260320T210126Z
LAST-MODIFIED:20260320T211442Z
UID:1823-1782345600-1782345600@massata.com
SUMMARY:Tewksbury | SCTP League
DESCRIPTION:
URL:https://massata.com/event/tewksbury-sctp-league-14/
LOCATION:Tewksbury Rod & Gun Club\, 79 Chandler Street\, Tewksbury\, MA\, 01876
CATEGORIES:ATA Shoot
END:VEVENT
BEGIN:VEVENT
DTSTART;TZID=America/New_York:20260626T083000
DTEND;TZID=America/New_York:20260628T120000
DTSTAMP:20260420T043919
CREATED:20260320T203459Z
LAST-MODIFIED:20260320T203459Z
UID:1767-1782462600-1782648000@massata.com
SUMMARY:Connecticut State Shoot
DESCRIPTION:
URL:https://massata.com/event/connecticut-state-shoot-2/
LOCATION:Hartford Gun Club\, 157 S. Main St.\, East Granby\, CT\, 06026
CATEGORIES:ATA Shoot
END:VEVENT
BEGIN:VEVENT
DTSTART;TZID=America/New_York:20260701T000000
DTEND;TZID=America/New_York:20260701T000000
DTSTAMP:20260420T043919
CREATED:20260320T210128Z
LAST-MODIFIED:20260320T211442Z
UID:1824-1782864000-1782864000@massata.com
SUMMARY:Lee | Big 50 Shoot
DESCRIPTION:
URL:https://massata.com/event/lee-big-50-shoot-5/
LOCATION:Lee Sportsmen’s Association\, 565 Fairview Street\, Lee\, MA\, 01238
CATEGORIES:ATA Shoot
END:VEVENT
BEGIN:VEVENT
DTSTART;TZID=America/New_York:20260702T000000
DTEND;TZID=America/New_York:20260702T000000
DTSTAMP:20260420T043919
CREATED:20260320T210132Z
LAST-MODIFIED:20260320T211456Z
UID:1825-1782950400-1782950400@massata.com
SUMMARY:Tewksbury | SCTP League
DESCRIPTION:
URL:https://massata.com/event/tewksbury-sctp-league-15/
LOCATION:Tewksbury Rod & Gun Club\, 79 Chandler Street\, Tewksbury\, MA\, 01876
CATEGORIES:ATA Shoot
END:VEVENT
BEGIN:VEVENT
DTSTART;TZID=America/New_York:20260705T083000
DTEND;TZID=America/New_York:20260705T120000
DTSTAMP:20260420T043919
CREATED:20260320T210134Z
LAST-MODIFIED:20260320T211456Z
UID:1826-1783240200-1783252800@massata.com
SUMMARY:Royalston | Hamlett Memorial Shoot
DESCRIPTION:
URL:https://massata.com/event/royalston-hamlett-memorial-shoot/
LOCATION:Royalston Fish & Game Club\, 49 Main Street\, Phillipston\, MA\, 01331
CATEGORIES:ATA Shoot
END:VEVENT
BEGIN:VEVENT
DTSTART;TZID=America/New_York:20260708T000000
DTEND;TZID=America/New_York:20260708T000000
DTSTAMP:20260420T043919
CREATED:20260320T210135Z
LAST-MODIFIED:20260320T211457Z
UID:1827-1783468800-1783468800@massata.com
SUMMARY:Lee | Big 50 Shoot
DESCRIPTION:
URL:https://massata.com/event/lee-big-50-shoot-6/
LOCATION:Lee Sportsmen’s Association\, 565 Fairview Street\, Lee\, MA\, 01238
CATEGORIES:ATA Shoot
END:VEVENT
BEGIN:VEVENT
DTSTART;TZID=America/New_York:20260709T000000
DTEND;TZID=America/New_York:20260709T000000
DTSTAMP:20260420T043919
CREATED:20260320T210136Z
LAST-MODIFIED:20260320T211457Z
UID:1828-1783555200-1783555200@massata.com
SUMMARY:Tewksbury | SCTP League
DESCRIPTION:
URL:https://massata.com/event/tewksbury-sctp-league-16/
LOCATION:Tewksbury Rod & Gun Club\, 79 Chandler Street\, Tewksbury\, MA\, 01876
CATEGORIES:ATA Shoot
END:VEVENT
BEGIN:VEVENT
DTSTART;TZID=America/New_York:20260709T083000
DTEND;TZID=America/New_York:20260712T120000
DTSTAMP:20260420T043919
CREATED:20260320T201908Z
LAST-MODIFIED:20260320T201908Z
UID:1755-1783585800-1783857600@massata.com
SUMMARY:Maine State Shoot
DESCRIPTION:
URL:https://massata.com/event/maine-state-shoot/
LOCATION:Scarborough Fish and Game\, 21 Fish and Game Lane\, Scarborough\, ME\, 04074\, United States
CATEGORIES:ATA Shoot
END:VEVENT
BEGIN:VEVENT
DTSTART;TZID=America/New_York:20260712T083000
DTEND;TZID=America/New_York:20260712T120000
DTSTAMP:20260420T043919
CREATED:20260320T210138Z
LAST-MODIFIED:20260320T211457Z
UID:1829-1783845000-1783857600@massata.com
SUMMARY:NLRG | High Pressure Shoot
DESCRIPTION:
URL:https://massata.com/event/nlrg-high-pressure-shoot/
LOCATION:North Leominster Rod & Gun Club\, 1501 Lancaster Avenue\, Lunenburg\, MA\, 01462\, United States
CATEGORIES:ATA Shoot
END:VEVENT
BEGIN:VEVENT
DTSTART;TZID=America/New_York:20260715T000000
DTEND;TZID=America/New_York:20260715T000000
DTSTAMP:20260420T043919
CREATED:20260320T210147Z
LAST-MODIFIED:20260320T211511Z
UID:1830-1784073600-1784073600@massata.com
SUMMARY:Holbrook | Big 50 Shoot
DESCRIPTION:
URL:https://massata.com/event/holbrook-big-50-shoot-3/
LOCATION:Holbrook Sportsmen’s Club\, 150 Quincy Street\, Holbrook\, MA\, 02343
CATEGORIES:ATA Shoot
END:VEVENT
BEGIN:VEVENT
DTSTART;TZID=America/New_York:20260715T000000
DTEND;TZID=America/New_York:20260715T000000
DTSTAMP:20260420T043920
CREATED:20260320T210149Z
LAST-MODIFIED:20260320T211512Z
UID:1831-1784073600-1784073600@massata.com
SUMMARY:Lee | Big 50 Shoot
DESCRIPTION:
URL:https://massata.com/event/lee-big-50-shoot-7/
LOCATION:Lee Sportsmen’s Association\, 565 Fairview Street\, Lee\, MA\, 01238
CATEGORIES:ATA Shoot
END:VEVENT
BEGIN:VEVENT
DTSTART;TZID=America/New_York:20260716T000000
DTEND;TZID=America/New_York:20260716T000000
DTSTAMP:20260420T043920
CREATED:20260320T210151Z
LAST-MODIFIED:20260320T211512Z
UID:1832-1784160000-1784160000@massata.com
SUMMARY:Tewksbury | SCTP League
DESCRIPTION:
URL:https://massata.com/event/tewksbury-sctp-league-17/
LOCATION:Tewksbury Rod & Gun Club\, 79 Chandler Street\, Tewksbury\, MA\, 01876
CATEGORIES:ATA Shoot
END:VEVENT
BEGIN:VEVENT
DTSTART;TZID=America/New_York:20260719T083000
DTEND;TZID=America/New_York:20260719T120000
DTSTAMP:20260420T043920
CREATED:20260320T210152Z
LAST-MODIFIED:20260320T211512Z
UID:1833-1784449800-1784462400@massata.com
SUMMARY:Fitchburg | Summer Fest
DESCRIPTION:
URL:https://massata.com/event/fitchburg-summer-fest/
LOCATION:Fitchburg Rod & Gun Club\, 985 Richardson Road\, Ashby\, MA\, 01431
CATEGORIES:ATA Shoot
END:VEVENT
BEGIN:VEVENT
DTSTART;TZID=America/New_York:20260722T000000
DTEND;TZID=America/New_York:20260722T000000
DTSTAMP:20260420T043920
CREATED:20260320T210153Z
LAST-MODIFIED:20260320T211512Z
UID:1834-1784678400-1784678400@massata.com
SUMMARY:Lee | Big 50 Shoot
DESCRIPTION:
URL:https://massata.com/event/lee-big-50-shoot-8/
LOCATION:Lee Sportsmen’s Association\, 565 Fairview Street\, Lee\, MA\, 01238
CATEGORIES:ATA Shoot
END:VEVENT
BEGIN:VEVENT
DTSTART;TZID=America/New_York:20260723T000000
DTEND;TZID=America/New_York:20260723T000000
DTSTAMP:20260420T043920
CREATED:20260320T210156Z
LAST-MODIFIED:20260320T211711Z
UID:1835-1784764800-1784764800@massata.com
SUMMARY:Tewksbury | SCTP League
DESCRIPTION:
URL:https://massata.com/event/tewksbury-sctp-league-18/
LOCATION:Tewksbury Rod & Gun Club\, 79 Chandler Street\, Tewksbury\, MA\, 01876
CATEGORIES:ATA Shoot
END:VEVENT
BEGIN:VEVENT
DTSTART;TZID=America/New_York:20260724T083000
DTEND;TZID=America/New_York:20260726T120000
DTSTAMP:20260420T043920
CREATED:20260320T202653Z
LAST-MODIFIED:20260320T211246Z
UID:1762-1784881800-1785067200@massata.com
SUMMARY:New Hampshire State Shoot
DESCRIPTION:
URL:https://massata.com/event/new-hampshire-state-shoot-8/
LOCATION:Minute Man Sportsmen’s Club\, 56R Francis Wyman Road\, Burlington\, MA\, 01803
CATEGORIES:ATA Shoot
END:VEVENT
BEGIN:VEVENT
DTSTART;TZID=America/New_York:20260729T000000
DTEND;TZID=America/New_York:20260729T000000
DTSTAMP:20260420T043920
CREATED:20260320T210158Z
LAST-MODIFIED:20260320T211712Z
UID:1836-1785283200-1785283200@massata.com
SUMMARY:Lee | Big 50 Shoot
DESCRIPTION:
URL:https://massata.com/event/lee-big-50-shoot-9/
LOCATION:Lee Sportsmen’s Association\, 565 Fairview Street\, Lee\, MA\, 01238
CATEGORIES:ATA Shoot
END:VEVENT
BEGIN:VEVENT
DTSTART;TZID=America/New_York:20260730T000000
DTEND;TZID=America/New_York:20260730T000000
DTSTAMP:20260420T043920
CREATED:20260320T210159Z
LAST-MODIFIED:20260320T211712Z
UID:1837-1785369600-1785369600@massata.com
SUMMARY:Tewksbury | SCTP League
DESCRIPTION:
URL:https://massata.com/event/tewksbury-sctp-league-19/
LOCATION:Tewksbury Rod & Gun Club\, 79 Chandler Street\, Tewksbury\, MA\, 01876
CATEGORIES:ATA Shoot
END:VEVENT
BEGIN:VEVENT
DTSTART;TZID=America/New_York:20260802T083000
DTEND;TZID=America/New_York:20260802T120000
DTSTAMP:20260420T043920
CREATED:20260320T210201Z
LAST-MODIFIED:20260320T211712Z
UID:1838-1785659400-1785672000@massata.com
SUMMARY:NLRG | Memorial Shoot
DESCRIPTION:
URL:https://massata.com/event/nlrg-memorial-shoot-3/
LOCATION:North Leominster Rod & Gun Club\, 1501 Lancaster Avenue\, Lunenburg\, MA\, 01462\, United States
CATEGORIES:ATA Shoot
END:VEVENT
BEGIN:VEVENT
DTSTART;TZID=America/New_York:20260805T000000
DTEND;TZID=America/New_York:20260805T000000
DTSTAMP:20260420T043920
CREATED:20260320T210206Z
LAST-MODIFIED:20260320T211906Z
UID:1840-1785888000-1785888000@massata.com
SUMMARY:Lee | Big 50 Shoot
DESCRIPTION:
URL:https://massata.com/event/lee-big-50-shoot-10/
LOCATION:Lee Sportsmen’s Association\, 565 Fairview Street\, Lee\, MA\, 01238
CATEGORIES:ATA Shoot
END:VEVENT
BEGIN:VEVENT
DTSTART;TZID=America/New_York:20260806T000000
DTEND;TZID=America/New_York:20260806T000000
DTSTAMP:20260420T043920
CREATED:20260320T210207Z
LAST-MODIFIED:20260320T211906Z
UID:1841-1785974400-1785974400@massata.com
SUMMARY:Tewksbury | SCTP League
DESCRIPTION:
URL:https://massata.com/event/tewksbury-sctp-league-20/
LOCATION:Tewksbury Rod & Gun Club\, 79 Chandler Street\, Tewksbury\, MA\, 01876
CATEGORIES:ATA Shoot
END:VEVENT
BEGIN:VEVENT
DTSTART;TZID=America/New_York:20260809T083000
DTEND;TZID=America/New_York:20260809T120000
DTSTAMP:20260420T043920
CREATED:20260320T210202Z
LAST-MODIFIED:20260320T212000Z
UID:1839-1786264200-1786276800@massata.com
SUMMARY:Holbrook | Summer Shoot
DESCRIPTION:
URL:https://massata.com/event/holbrook-summer-shoot/
LOCATION:Holbrook Sportsmen’s Club\, 150 Quincy Street\, Holbrook\, MA\, 02343
CATEGORIES:ATA Shoot
END:VEVENT
BEGIN:VEVENT
DTSTART;TZID=America/New_York:20260812T000000
DTEND;TZID=America/New_York:20260812T000000
DTSTAMP:20260420T043920
CREATED:20260320T210209Z
LAST-MODIFIED:20260320T211907Z
UID:1842-1786492800-1786492800@massata.com
SUMMARY:Lee | Big 50 Shoot
DESCRIPTION:
URL:https://massata.com/event/lee-big-50-shoot-11/
LOCATION:Lee Sportsmen’s Association\, 565 Fairview Street\, Lee\, MA\, 01238
CATEGORIES:ATA Shoot
END:VEVENT
BEGIN:VEVENT
DTSTART;TZID=America/New_York:20260815T083000
DTEND;TZID=America/New_York:20260815T120000
DTSTAMP:20260420T043920
CREATED:20260320T210210Z
LAST-MODIFIED:20260320T211907Z
UID:1843-1786782600-1786795200@massata.com
SUMMARY:Hopkinton | Marathon
DESCRIPTION:
URL:https://massata.com/event/hopkinton-marathon-6/
LOCATION:Hopkinton Sportsmen’s Association\, 95 Lumber Street\, Hopkinton\, MA\, 01748
CATEGORIES:Marathon
END:VEVENT
BEGIN:VEVENT
DTSTART;TZID=America/New_York:20260819T000000
DTEND;TZID=America/New_York:20260819T000000
DTSTAMP:20260420T043920
CREATED:20260320T210211Z
LAST-MODIFIED:20260320T211907Z
UID:1844-1787097600-1787097600@massata.com
SUMMARY:Holbrook | Big 50 Shoot
DESCRIPTION:
URL:https://massata.com/event/holbrook-big-50-shoot-4/
LOCATION:Holbrook Sportsmen’s Club\, 150 Quincy Street\, Holbrook\, MA\, 02343
CATEGORIES:ATA Shoot
END:VEVENT
BEGIN:VEVENT
DTSTART;TZID=America/New_York:20260819T000000
DTEND;TZID=America/New_York:20260819T000000
DTSTAMP:20260420T043920
CREATED:20260320T210216Z
LAST-MODIFIED:20260320T211910Z
UID:1845-1787097600-1787097600@massata.com
SUMMARY:Lee | Big 50 Shoot
DESCRIPTION:
URL:https://massata.com/event/lee-big-50-shoot-12/
LOCATION:Lee Sportsmen’s Association\, 565 Fairview Street\, Lee\, MA\, 01238
CATEGORIES:ATA Shoot
END:VEVENT
BEGIN:VEVENT
DTSTART;TZID=America/New_York:20260819T000000
DTEND;TZID=America/New_York:20260819T000000
DTSTAMP:20260420T043920
CREATED:20260320T210217Z
LAST-MODIFIED:20260320T211910Z
UID:1846-1787097600-1787097600@massata.com
SUMMARY:Woburn | Fall Singles League
DESCRIPTION:
URL:https://massata.com/event/woburn-fall-singles-league/
LOCATION:Woburn Sportsman Club\, 155 Middlesex Turnpike\, Bedford\, MA\, 01730
CATEGORIES:ATA Shoot
END:VEVENT
BEGIN:VEVENT
DTSTART;TZID=America/New_York:20260822T083000
DTEND;TZID=America/New_York:20260822T120000
DTSTAMP:20260420T043920
CREATED:20260320T210219Z
LAST-MODIFIED:20260320T211910Z
UID:1847-1787387400-1787400000@massata.com
SUMMARY:Uxbridge | Marathon
DESCRIPTION:
URL:https://massata.com/event/uxbridge-marathon-4/
LOCATION:Uxbridge Rod and Gun Club
CATEGORIES:Marathon
END:VEVENT
BEGIN:VEVENT
DTSTART;TZID=America/New_York:20260826T000000
DTEND;TZID=America/New_York:20260826T000000
DTSTAMP:20260420T043920
CREATED:20260320T210220Z
LAST-MODIFIED:20260320T211910Z
UID:1848-1787702400-1787702400@massata.com
SUMMARY:Lee | Big 50 Shoot
DESCRIPTION:
URL:https://massata.com/event/lee-big-50-shoot-13/
LOCATION:Lee Sportsmen’s Association\, 565 Fairview Street\, Lee\, MA\, 01238
CATEGORIES:ATA Shoot
END:VEVENT
END:VCALENDAR