BEGIN:VCALENDAR
VERSION:2.0
PRODID:-//Massachusetts Amateur Trapshooting Association - ECPv6.15.20//NONSGML v1.0//EN
CALSCALE:GREGORIAN
METHOD:PUBLISH
X-WR-CALNAME:Massachusetts Amateur Trapshooting Association
X-ORIGINAL-URL:https://massata.com
X-WR-CALDESC:Events for Massachusetts Amateur Trapshooting Association
REFRESH-INTERVAL;VALUE=DURATION:PT1H
X-Robots-Tag:noindex
X-PUBLISHED-TTL:PT1H
BEGIN:VTIMEZONE
TZID:America/New_York
BEGIN:DAYLIGHT
TZOFFSETFROM:-0500
TZOFFSETTO:-0400
TZNAME:EDT
DTSTART:20220313T070000
END:DAYLIGHT
BEGIN:STANDARD
TZOFFSETFROM:-0400
TZOFFSETTO:-0500
TZNAME:EST
DTSTART:20221106T060000
END:STANDARD
BEGIN:DAYLIGHT
TZOFFSETFROM:-0500
TZOFFSETTO:-0400
TZNAME:EDT
DTSTART:20230312T070000
END:DAYLIGHT
BEGIN:STANDARD
TZOFFSETFROM:-0400
TZOFFSETTO:-0500
TZNAME:EST
DTSTART:20231105T060000
END:STANDARD
BEGIN:DAYLIGHT
TZOFFSETFROM:-0500
TZOFFSETTO:-0400
TZNAME:EDT
DTSTART:20240310T070000
END:DAYLIGHT
BEGIN:STANDARD
TZOFFSETFROM:-0400
TZOFFSETTO:-0500
TZNAME:EST
DTSTART:20241103T060000
END:STANDARD
END:VTIMEZONE
BEGIN:VEVENT
DTSTART;VALUE=DATE:20230720
DTEND;VALUE=DATE:20230724
DTSTAMP:20260419T092744
CREATED:20230301T004206Z
LAST-MODIFIED:20230301T004641Z
UID:1281-1689811200-1690156799@massata.com
SUMMARY:ATA Eastern Zone
DESCRIPTION:
URL:https://massata.com/event/ata-eastern-zone/
LOCATION:PSSA Shooting Grounds\, 405 Monastery Rd\, Elysburg\, PA\, 17824\, United States
ATTACH;FMTTYPE=image/png:https://massata.com/wp-content/uploads/2023/02/5f171e_e220c72b9f9b4614885797c550d9ecbc_mv2.png
END:VEVENT
BEGIN:VEVENT
DTSTART;TZID=America/New_York:20230720T170000
DTEND;TZID=America/New_York:20230720T190000
DTSTAMP:20260419T092744
CREATED:20230228T004256Z
LAST-MODIFIED:20230228T004256Z
UID:1128-1689872400-1689879600@massata.com
SUMMARY:Tewksbury - Singles League (SCTP Only)
DESCRIPTION:
URL:https://massata.com/event/tewksbury-singles-league-sctp-only-16/
LOCATION:Tewksbury Rod & Gun Club\, 79 Chandler Street\, Tewksbury\, MA\, 01876
CATEGORIES:Junior Event,League
ATTACH;FMTTYPE=image/jpeg:https://massata.com/wp-content/uploads/2023/02/SCTP-Splash-Logo-93234505.jpeg
END:VEVENT
BEGIN:VEVENT
DTSTART;TZID=America/New_York:20230723T090000
DTEND;TZID=America/New_York:20230723T120000
DTSTAMP:20260419T092744
CREATED:20230227T232946Z
LAST-MODIFIED:20230227T232946Z
UID:1021-1690102800-1690113600@massata.com
SUMMARY:Buck Moon Shoot
DESCRIPTION:
URL:https://massata.com/event/buck-moon-shoot/
LOCATION:Fitchburg Rod & Gun Club\, 985 Richardson Road\, Ashby\, MA\, 01431
CATEGORIES:ATA Shoot
ATTACH;FMTTYPE=image/png:https://massata.com/wp-content/uploads/2022/03/96f607_2892986dba3344248418500b9b5350e8_mv2-e1647828848605.png
END:VEVENT
BEGIN:VEVENT
DTSTART;TZID=America/New_York:20230726T080000
DTEND;TZID=America/New_York:20230726T170000
DTSTAMP:20260419T092744
CREATED:20230228T000735Z
LAST-MODIFIED:20230228T000735Z
UID:1062-1690358400-1690390800@massata.com
SUMMARY:Lee Big 50
DESCRIPTION:
URL:https://massata.com/event/lee-big-50-21/
LOCATION:Lee Sportsmen’s Association\, 565 Fairview Street\, Lee\, MA\, 01238
CATEGORIES:Big 50
ATTACH;FMTTYPE=image/png:https://massata.com/wp-content/uploads/2021/10/Lee_Logo_Final.png
END:VEVENT
BEGIN:VEVENT
DTSTART;TZID=America/New_York:20230727T170000
DTEND;TZID=America/New_York:20230727T190000
DTSTAMP:20260419T092744
CREATED:20230228T004336Z
LAST-MODIFIED:20230228T004336Z
UID:1130-1690477200-1690484400@massata.com
SUMMARY:Tewksbury - Singles League (SCTP Only)
DESCRIPTION:
URL:https://massata.com/event/tewksbury-singles-league-sctp-only-17/
LOCATION:Tewksbury Rod & Gun Club\, 79 Chandler Street\, Tewksbury\, MA\, 01876
CATEGORIES:Junior Event,League
ATTACH;FMTTYPE=image/jpeg:https://massata.com/wp-content/uploads/2023/02/SCTP-Splash-Logo-93234505.jpeg
END:VEVENT
BEGIN:VEVENT
DTSTART;TZID=America/New_York:20230728T090000
DTEND;TZID=America/New_York:20230728T120000
DTSTAMP:20260419T092744
CREATED:20230228T012317Z
LAST-MODIFIED:20230228T012317Z
UID:1184-1690534800-1690545600@massata.com
SUMMARY:New Hampshire State Shoot
DESCRIPTION:
URL:https://massata.com/event/new-hampshire-state-shoot-2/
LOCATION:Minute Man Sportsmen’s Club\, 56R Francis Wyman Road\, Burlington\, MA\, 01803
CATEGORIES:ATA Shoot
ATTACH;FMTTYPE=image/png:https://massata.com/wp-content/uploads/2022/03/Screenshot-2022-03-19-8.55.19-AM.png
END:VEVENT
BEGIN:VEVENT
DTSTART;TZID=America/New_York:20230729T090000
DTEND;TZID=America/New_York:20230729T120000
DTSTAMP:20260419T092744
CREATED:20230228T012356Z
LAST-MODIFIED:20230228T012356Z
UID:1186-1690621200-1690632000@massata.com
SUMMARY:New Hampshire State Shoot
DESCRIPTION:
URL:https://massata.com/event/new-hampshire-state-shoot-3/
LOCATION:Minute Man Sportsmen’s Club\, 56R Francis Wyman Road\, Burlington\, MA\, 01803
CATEGORIES:ATA Shoot
ATTACH;FMTTYPE=image/png:https://massata.com/wp-content/uploads/2022/03/Screenshot-2022-03-19-8.55.19-AM.png
END:VEVENT
BEGIN:VEVENT
DTSTART;TZID=America/New_York:20230730T090000
DTEND;TZID=America/New_York:20230730T120000
DTSTAMP:20260419T092744
CREATED:20230228T012427Z
LAST-MODIFIED:20230228T012427Z
UID:1188-1690707600-1690718400@massata.com
SUMMARY:New Hampshire State Shoot
DESCRIPTION:
URL:https://massata.com/event/new-hampshire-state-shoot-4/
LOCATION:Minute Man Sportsmen’s Club\, 56R Francis Wyman Road\, Burlington\, MA\, 01803
CATEGORIES:ATA Shoot
ATTACH;FMTTYPE=image/png:https://massata.com/wp-content/uploads/2022/03/Screenshot-2022-03-19-8.55.19-AM.png
END:VEVENT
BEGIN:VEVENT
DTSTART;TZID=America/New_York:20230802T170000
DTEND;TZID=America/New_York:20230802T190000
DTSTAMP:20260419T092744
CREATED:20230228T000841Z
LAST-MODIFIED:20230228T000841Z
UID:1064-1690995600-1691002800@massata.com
SUMMARY:Lee Big 50
DESCRIPTION:
URL:https://massata.com/event/lee-big-50-22/
LOCATION:Lee Sportsmen’s Association\, 565 Fairview Street\, Lee\, MA\, 01238
CATEGORIES:Big 50
ATTACH;FMTTYPE=image/png:https://massata.com/wp-content/uploads/2021/10/Lee_Logo_Final.png
END:VEVENT
BEGIN:VEVENT
DTSTART;TZID=America/New_York:20230803T170000
DTEND;TZID=America/New_York:20230803T190000
DTSTAMP:20260419T092744
CREATED:20230228T004409Z
LAST-MODIFIED:20230228T004409Z
UID:1132-1691082000-1691089200@massata.com
SUMMARY:Tewksbury - Singles League (SCTP Only)
DESCRIPTION:
URL:https://massata.com/event/tewksbury-singles-league-sctp-only-18/
LOCATION:Tewksbury Rod & Gun Club\, 79 Chandler Street\, Tewksbury\, MA\, 01876
CATEGORIES:Junior Event,League
ATTACH;FMTTYPE=image/jpeg:https://massata.com/wp-content/uploads/2023/02/SCTP-Splash-Logo-93234505.jpeg
END:VEVENT
BEGIN:VEVENT
DTSTART;TZID=America/New_York:20230806T090000
DTEND;TZID=America/New_York:20230806T120000
DTSTAMP:20260419T092744
CREATED:20230227T233042Z
LAST-MODIFIED:20230227T233042Z
UID:1023-1691312400-1691323200@massata.com
SUMMARY:Memorial Shoot
DESCRIPTION:
URL:https://massata.com/event/memorial-shoot-2/
LOCATION:North Leominster Rod & Gun Club\, 1501 Lancaster Avenue\, Lunenburg\, MA\, 01462\, United States
CATEGORIES:ATA Shoot
ATTACH;FMTTYPE=image/png:https://massata.com/wp-content/uploads/2021/10/cropped-nlrg-e1609268403669-2.png
END:VEVENT
BEGIN:VEVENT
DTSTART;TZID=America/New_York:20230809T170000
DTEND;TZID=America/New_York:20230809T190000
DTSTAMP:20260419T092744
CREATED:20230228T000919Z
LAST-MODIFIED:20230228T000919Z
UID:1066-1691600400-1691607600@massata.com
SUMMARY:Lee Big 50
DESCRIPTION:
URL:https://massata.com/event/lee-big-50-23/
LOCATION:Lee Sportsmen’s Association\, 565 Fairview Street\, Lee\, MA\, 01238
CATEGORIES:Big 50
ATTACH;FMTTYPE=image/png:https://massata.com/wp-content/uploads/2021/10/Lee_Logo_Final.png
END:VEVENT
BEGIN:VEVENT
DTSTART;TZID=America/New_York:20230816T170000
DTEND;TZID=America/New_York:20230816T190000
DTSTAMP:20260419T092744
CREATED:20230228T001000Z
LAST-MODIFIED:20230228T001000Z
UID:1068-1692205200-1692212400@massata.com
SUMMARY:Lee Big 50
DESCRIPTION:
URL:https://massata.com/event/lee-big-50-24/
LOCATION:Lee Sportsmen’s Association\, 565 Fairview Street\, Lee\, MA\, 01238
CATEGORIES:Big 50
ATTACH;FMTTYPE=image/png:https://massata.com/wp-content/uploads/2021/10/Lee_Logo_Final.png
END:VEVENT
BEGIN:VEVENT
DTSTART;TZID=America/New_York:20230823T170000
DTEND;TZID=America/New_York:20230823T190000
DTSTAMP:20260419T092744
CREATED:20230228T001036Z
LAST-MODIFIED:20230228T001036Z
UID:1070-1692810000-1692817200@massata.com
SUMMARY:Lee Big 50
DESCRIPTION:
URL:https://massata.com/event/lee-big-50-25/
LOCATION:Lee Sportsmen’s Association\, 565 Fairview Street\, Lee\, MA\, 01238
CATEGORIES:Big 50
ATTACH;FMTTYPE=image/png:https://massata.com/wp-content/uploads/2021/10/Lee_Logo_Final.png
END:VEVENT
BEGIN:VEVENT
DTSTART;TZID=America/New_York:20230826T090000
DTEND;TZID=America/New_York:20230826T120000
DTSTAMP:20260419T092744
CREATED:20230227T233201Z
LAST-MODIFIED:20230228T015016Z
UID:1025-1693040400-1693051200@massata.com
SUMMARY:End of the Season - Marathon
DESCRIPTION:
URL:https://massata.com/event/end-of-the-season-marathon/
LOCATION:North Leominster Rod & Gun Club\, 1501 Lancaster Avenue\, Lunenburg\, MA\, 01462\, United States
CATEGORIES:Marathon
ATTACH;FMTTYPE=image/png:https://massata.com/wp-content/uploads/2021/10/cropped-nlrg-e1609268403669-2.png
END:VEVENT
BEGIN:VEVENT
DTSTART;TZID=America/New_York:20230827T090000
DTEND;TZID=America/New_York:20230827T120000
DTSTAMP:20260419T092744
CREATED:20230227T233300Z
LAST-MODIFIED:20230227T233300Z
UID:1027-1693126800-1693137600@massata.com
SUMMARY:Holbrook
DESCRIPTION:
URL:https://massata.com/event/holbrook/
LOCATION:Holbrook Sportsmen’s Club\, 150 Quincy Street\, Holbrook\, MA\, 02343
CATEGORIES:ATA Shoot
ATTACH;FMTTYPE=image/png:https://massata.com/wp-content/uploads/2021/10/Holbrook_Logo_Final.png
END:VEVENT
BEGIN:VEVENT
DTSTART;TZID=America/New_York:20230830T170000
DTEND;TZID=America/New_York:20230830T190000
DTSTAMP:20260419T092744
CREATED:20230228T001112Z
LAST-MODIFIED:20230228T001112Z
UID:1072-1693414800-1693422000@massata.com
SUMMARY:Lee Big 50
DESCRIPTION:
URL:https://massata.com/event/lee-big-50-26/
LOCATION:Lee Sportsmen’s Association\, 565 Fairview Street\, Lee\, MA\, 01238
CATEGORIES:Big 50
ATTACH;FMTTYPE=image/png:https://massata.com/wp-content/uploads/2021/10/Lee_Logo_Final.png
END:VEVENT
BEGIN:VEVENT
DTSTART;TZID=America/New_York:20230830T170000
DTEND;TZID=America/New_York:20230830T190000
DTSTAMP:20260419T092744
CREATED:20230228T004809Z
LAST-MODIFIED:20230228T004809Z
UID:1142-1693414800-1693422000@massata.com
SUMMARY:Royalston Night Shoot
DESCRIPTION:
URL:https://massata.com/event/royalston-night-shoot-5/
LOCATION:Royalston Fish & Game Club\, 49 Main Street\, Phillipston\, MA\, 01331
CATEGORIES:League
ATTACH;FMTTYPE=image/png:https://massata.com/wp-content/uploads/2021/10/Royalston_Logo_Final.png
END:VEVENT
BEGIN:VEVENT
DTSTART;TZID=America/New_York:20230830T170000
DTEND;TZID=America/New_York:20230830T190000
DTSTAMP:20260419T092744
CREATED:20230228T005013Z
LAST-MODIFIED:20230228T005104Z
UID:1144-1693414800-1693422000@massata.com
SUMMARY:Woburn Fall League - Singles
DESCRIPTION:
URL:https://massata.com/event/woburn-fall-league-singles/
LOCATION:Woburn Sportsman Club\, 155 Middlesex Turnpike\, Bedford\, MA\, 01730
CATEGORIES:League
ATTACH;FMTTYPE=image/png:https://massata.com/wp-content/uploads/2021/10/Woburn_Logo_Final.png
END:VEVENT
BEGIN:VEVENT
DTSTART;TZID=America/New_York:20230903T090000
DTEND;TZID=America/New_York:20230903T120000
DTSTAMP:20260419T092744
CREATED:20230227T233432Z
LAST-MODIFIED:20230227T234018Z
UID:1029-1693731600-1693742400@massata.com
SUMMARY:Labor Day 400 Shoot
DESCRIPTION:
URL:https://massata.com/event/labor-day-shoot/
LOCATION:North Leominster Rod & Gun Club\, 1501 Lancaster Avenue\, Lunenburg\, MA\, 01462\, United States
CATEGORIES:ATA Shoot
ATTACH;FMTTYPE=image/gif:https://massata.com/wp-content/uploads/2021/10/mata_logo.gif
END:VEVENT
BEGIN:VEVENT
DTSTART;VALUE=DATE:20230906
DTEND;VALUE=DATE:20230911
DTSTAMP:20260419T092744
CREATED:20230301T003308Z
LAST-MODIFIED:20230301T003611Z
UID:1278-1693958400-1694390399@massata.com
SUMMARY:38th Annual Northeastern Grand American
DESCRIPTION:
URL:https://massata.com/event/38th-annual-northeastern-grand-american/
LOCATION:NYSATA Homegrounds\, 7400 Bull Street\, Bridgeport\, NY\, 13030
ATTACH;FMTTYPE=image/png:https://massata.com/wp-content/uploads/2023/02/Northeastern_2023_web.png
END:VEVENT
BEGIN:VEVENT
DTSTART;TZID=America/New_York:20230906T170000
DTEND;TZID=America/New_York:20230906T190000
DTSTAMP:20260419T092744
CREATED:20230228T005204Z
LAST-MODIFIED:20230228T005204Z
UID:1146-1694019600-1694026800@massata.com
SUMMARY:Woburn Fall League - Singles
DESCRIPTION:
URL:https://massata.com/event/woburn-fall-league-singles-2/
LOCATION:Woburn Sportsman Club\, 155 Middlesex Turnpike\, Bedford\, MA\, 01730
CATEGORIES:League
ATTACH;FMTTYPE=image/png:https://massata.com/wp-content/uploads/2021/10/Woburn_Logo_Final.png
END:VEVENT
BEGIN:VEVENT
DTSTART;TZID=America/New_York:20230910T090000
DTEND;TZID=America/New_York:20230910T120000
DTSTAMP:20260419T092744
CREATED:20230227T233531Z
LAST-MODIFIED:20230227T233531Z
UID:1031-1694336400-1694347200@massata.com
SUMMARY:Bird Season Shoot
DESCRIPTION:
URL:https://massata.com/event/bird-season-shoot-2/
LOCATION:Royalston Fish & Game Club\, 49 Main Street\, Phillipston\, MA\, 01331
CATEGORIES:ATA Shoot
ATTACH;FMTTYPE=image/png:https://massata.com/wp-content/uploads/2021/10/Royalston_Logo_Final.png
END:VEVENT
BEGIN:VEVENT
DTSTART;TZID=America/New_York:20230913T170000
DTEND;TZID=America/New_York:20230913T190000
DTSTAMP:20260419T092744
CREATED:20230228T005242Z
LAST-MODIFIED:20230228T005242Z
UID:1148-1694624400-1694631600@massata.com
SUMMARY:Woburn Fall League - Singles
DESCRIPTION:
URL:https://massata.com/event/woburn-fall-league-singles-3/
LOCATION:Woburn Sportsman Club\, 155 Middlesex Turnpike\, Bedford\, MA\, 01730
CATEGORIES:League
ATTACH;FMTTYPE=image/png:https://massata.com/wp-content/uploads/2021/10/Woburn_Logo_Final.png
END:VEVENT
BEGIN:VEVENT
DTSTART;TZID=America/New_York:20230917T090000
DTEND;TZID=America/New_York:20230917T120000
DTSTAMP:20260419T092744
CREATED:20230227T233629Z
LAST-MODIFIED:20230227T233629Z
UID:1033-1694941200-1694952000@massata.com
SUMMARY:End of Summer Shoot
DESCRIPTION:
URL:https://massata.com/event/end-of-summer-shoot-2/
LOCATION:North Leominster Rod & Gun Club\, 1501 Lancaster Avenue\, Lunenburg\, MA\, 01462\, United States
CATEGORIES:ATA Shoot
ATTACH;FMTTYPE=image/png:https://massata.com/wp-content/uploads/2021/10/cropped-nlrg-e1609268403669-2.png
END:VEVENT
BEGIN:VEVENT
DTSTART;TZID=America/New_York:20230920T170000
DTEND;TZID=America/New_York:20230920T190000
DTSTAMP:20260419T092744
CREATED:20230228T005316Z
LAST-MODIFIED:20230228T005316Z
UID:1150-1695229200-1695236400@massata.com
SUMMARY:Woburn Fall League - Singles
DESCRIPTION:
URL:https://massata.com/event/woburn-fall-league-singles-4/
LOCATION:Woburn Sportsman Club\, 155 Middlesex Turnpike\, Bedford\, MA\, 01730
CATEGORIES:League
ATTACH;FMTTYPE=image/png:https://massata.com/wp-content/uploads/2021/10/Woburn_Logo_Final.png
END:VEVENT
BEGIN:VEVENT
DTSTART;TZID=America/New_York:20230923T090000
DTEND;TZID=America/New_York:20230923T120000
DTSTAMP:20260419T092744
CREATED:20230227T233752Z
LAST-MODIFIED:20230227T233752Z
UID:1035-1695459600-1695470400@massata.com
SUMMARY:Tewksbury - Marathon
DESCRIPTION:
URL:https://massata.com/event/tewksbury-marathon-3/
LOCATION:Tewksbury Rod & Gun Club\, 79 Chandler Street\, Tewksbury\, MA\, 01876
CATEGORIES:Marathon
ATTACH;FMTTYPE=image/png:https://massata.com/wp-content/uploads/2021/10/Tewksbury_Logo_Final.png
END:VEVENT
BEGIN:VEVENT
DTSTART;TZID=America/New_York:20230927T170000
DTEND;TZID=America/New_York:20230927T190000
DTSTAMP:20260419T092744
CREATED:20230228T005353Z
LAST-MODIFIED:20230228T005353Z
UID:1152-1695834000-1695841200@massata.com
SUMMARY:Woburn Fall League - Singles
DESCRIPTION:
URL:https://massata.com/event/woburn-fall-league-singles-5/
LOCATION:Woburn Sportsman Club\, 155 Middlesex Turnpike\, Bedford\, MA\, 01730
CATEGORIES:League
ATTACH;FMTTYPE=image/png:https://massata.com/wp-content/uploads/2021/10/Woburn_Logo_Final.png
END:VEVENT
BEGIN:VEVENT
DTSTART;TZID=America/New_York:20230927T170000
DTEND;TZID=America/New_York:20230927T190000
DTSTAMP:20260419T092744
CREATED:20230228T230018Z
LAST-MODIFIED:20230228T230018Z
UID:1207-1695834000-1695841200@massata.com
SUMMARY:Woburn Frozen Pair League - Doubles
DESCRIPTION:
URL:https://massata.com/event/woburn-frozen-pair-league-doubles/
LOCATION:Woburn Sportsman Club\, 155 Middlesex Turnpike\, Bedford\, MA\, 01730
CATEGORIES:League
ATTACH;FMTTYPE=image/png:https://massata.com/wp-content/uploads/2021/10/Woburn_Logo_Final.png
END:VEVENT
BEGIN:VEVENT
DTSTART;TZID=America/New_York:20230930T090000
DTEND;TZID=America/New_York:20230930T120000
DTSTAMP:20260419T092744
CREATED:20230227T233842Z
LAST-MODIFIED:20230227T233842Z
UID:1037-1696064400-1696075200@massata.com
SUMMARY:Westford - Marathon
DESCRIPTION:
URL:https://massata.com/event/westford-marathon-5/
LOCATION:Westford Sportsmen’s Club\, 80 West Street\, Westford\, MA\, 01886
CATEGORIES:Marathon
ATTACH;FMTTYPE=image/png:https://massata.com/wp-content/uploads/2021/10/Westford_Logo_Final.png
END:VEVENT
END:VCALENDAR