BEGIN:VCALENDAR
VERSION:2.0
PRODID:-//Massachusetts Amateur Trapshooting Association - ECPv6.15.20//NONSGML v1.0//EN
CALSCALE:GREGORIAN
METHOD:PUBLISH
X-WR-CALNAME:Massachusetts Amateur Trapshooting Association
X-ORIGINAL-URL:https://massata.com
X-WR-CALDESC:Events for Massachusetts Amateur Trapshooting Association
REFRESH-INTERVAL;VALUE=DURATION:PT1H
X-Robots-Tag:noindex
X-PUBLISHED-TTL:PT1H
BEGIN:VTIMEZONE
TZID:America/New_York
BEGIN:DAYLIGHT
TZOFFSETFROM:-0500
TZOFFSETTO:-0400
TZNAME:EDT
DTSTART:20210314T070000
END:DAYLIGHT
BEGIN:STANDARD
TZOFFSETFROM:-0400
TZOFFSETTO:-0500
TZNAME:EST
DTSTART:20211107T060000
END:STANDARD
BEGIN:DAYLIGHT
TZOFFSETFROM:-0500
TZOFFSETTO:-0400
TZNAME:EDT
DTSTART:20220313T070000
END:DAYLIGHT
BEGIN:STANDARD
TZOFFSETFROM:-0400
TZOFFSETTO:-0500
TZNAME:EST
DTSTART:20221106T060000
END:STANDARD
BEGIN:DAYLIGHT
TZOFFSETFROM:-0500
TZOFFSETTO:-0400
TZNAME:EDT
DTSTART:20230312T070000
END:DAYLIGHT
BEGIN:STANDARD
TZOFFSETFROM:-0400
TZOFFSETTO:-0500
TZNAME:EST
DTSTART:20231105T060000
END:STANDARD
END:VTIMEZONE
BEGIN:VTIMEZONE
TZID:UTC
BEGIN:STANDARD
TZOFFSETFROM:+0000
TZOFFSETTO:+0000
TZNAME:UTC
DTSTART:20210101T000000
END:STANDARD
END:VTIMEZONE
BEGIN:VEVENT
DTSTART;VALUE=DATE:20220911
DTEND;VALUE=DATE:20220912
DTSTAMP:20260419T140525
CREATED:20220319T173524Z
LAST-MODIFIED:20220323T204228Z
UID:659-1662854400-1662940799@massata.com
SUMMARY:Bird Season Shoot
DESCRIPTION:
URL:https://massata.com/event/bird-season-shoot/
LOCATION:Royalston Fish & Game Club\, 49 Main Street\, Phillipston\, MA\, 01331
CATEGORIES:ATA Shoot
ATTACH;FMTTYPE=image/png:https://massata.com/wp-content/uploads/2021/10/Royalston_Logo_Final.png
END:VEVENT
BEGIN:VEVENT
DTSTART;VALUE=DATE:20220907
DTEND;VALUE=DATE:20220908
DTSTAMP:20260419T140525
CREATED:20220319T173307Z
LAST-MODIFIED:20220323T204248Z
UID:656-1662508800-1662595199@massata.com
SUMMARY:Woburn League
DESCRIPTION:
URL:https://massata.com/event/woburn-league/
LOCATION:Woburn Sportsman Club\, 155 Middlesex Turnpike\, Bedford\, MA\, 01730
CATEGORIES:League
ATTACH;FMTTYPE=image/png:https://massata.com/wp-content/uploads/2021/10/Woburn_Logo_Final.png
END:VEVENT
BEGIN:VEVENT
DTSTART;VALUE=DATE:20220904
DTEND;VALUE=DATE:20220905
DTSTAMP:20260419T140525
CREATED:20220319T172923Z
LAST-MODIFIED:20220903T152637Z
UID:654-1662249600-1662335999@massata.com
SUMMARY:Labor Day 300
DESCRIPTION:
URL:https://massata.com/event/labor-day-400/
LOCATION:North Leominster Rod & Gun Club\, 1501 Lancaster Avenue\, Lunenburg\, MA\, 01462\, United States
CATEGORIES:ATA Shoot
ATTACH;FMTTYPE=image/png:https://massata.com/wp-content/uploads/2021/10/cropped-nlrg-e1609268403669-2.png
END:VEVENT
BEGIN:VEVENT
DTSTART;VALUE=DATE:20220828
DTEND;VALUE=DATE:20220829
DTSTAMP:20260419T140525
CREATED:20220319T172628Z
LAST-MODIFIED:20220323T204542Z
UID:652-1661644800-1661731199@massata.com
SUMMARY:Money Shoot
DESCRIPTION:
URL:https://massata.com/event/money-shoot/
LOCATION:Holbrook Sportsmen’s Club\, 150 Quincy Street\, Holbrook\, MA\, 02343
CATEGORIES:ATA Shoot
ATTACH;FMTTYPE=image/png:https://massata.com/wp-content/uploads/2021/10/Holbrook_Logo_Final.png
END:VEVENT
BEGIN:VEVENT
DTSTART;TZID=America/New_York:20220827T090000
DTEND;TZID=America/New_York:20220827T120000
DTSTAMP:20260419T140525
CREATED:20220822T232223Z
LAST-MODIFIED:20220822T232223Z
UID:985-1661590800-1661601600@massata.com
SUMMARY:End of Season Marathon
DESCRIPTION:
URL:https://massata.com/event/end-of-season-marathon/
LOCATION:North Leominster Rod & Gun Club\, 1501 Lancaster Avenue\, Lunenburg\, MA\, 01462\, United States
CATEGORIES:ATA Shoot,Marathon
ATTACH;FMTTYPE=image/png:https://massata.com/wp-content/uploads/2021/10/cropped-nlrg-e1609268403669-2.png
END:VEVENT
BEGIN:VEVENT
DTSTART;TZID=America/New_York:20220824T170000
DTEND;TZID=America/New_York:20220824T200000
DTSTAMP:20260419T140525
CREATED:20220319T172227Z
LAST-MODIFIED:20220323T204657Z
UID:648-1661360400-1661371200@massata.com
SUMMARY:Night Shoot
DESCRIPTION:All 3 events available\, as long as we have 3 shooters per event. (Singles\, Handicap\, & Doubles). \nBring all your fellow shooters. Fields available for practice and public shooters as well. No prizes or options\, just Fun. \nClick Here for the Shoot Program.
URL:https://massata.com/event/night-shoot-5/
LOCATION:Royalston Fish & Game Club\, 49 Main Street\, Phillipston\, MA\, 01331
CATEGORIES:ATA Shoot
ATTACH;FMTTYPE=image/png:https://massata.com/wp-content/uploads/2021/10/Royalston_Logo_Final.png
END:VEVENT
BEGIN:VEVENT
DTSTART;VALUE=DATE:20220824
DTEND;VALUE=DATE:20220825
DTSTAMP:20260419T140525
CREATED:20220319T172414Z
LAST-MODIFIED:20220323T204723Z
UID:650-1661299200-1661385599@massata.com
SUMMARY:Lee "Big 50"
DESCRIPTION:
URL:https://massata.com/event/lee-big-50-13/
LOCATION:Lee Sportsmen’s Association\, 565 Fairview Street\, Lee\, MA\, 01238
CATEGORIES:Big 50
ATTACH;FMTTYPE=image/png:https://massata.com/wp-content/uploads/2021/10/Lee_Logo_Final.png
END:VEVENT
BEGIN:VEVENT
DTSTART;TZID=America/New_York:20220821T090000
DTEND;TZID=America/New_York:20220821T140000
DTSTAMP:20260419T140525
CREATED:20220323T203711Z
LAST-MODIFIED:20220716T202412Z
UID:815-1661072400-1661090400@massata.com
SUMMARY:Swallow Hill Shoot
DESCRIPTION:
URL:https://massata.com/event/corn-moon-shoot/
LOCATION:Fitchburg Rod & Gun Club\, 985 Richardson Road\, Ashby\, MA\, 01431
CATEGORIES:ATA Shoot
ATTACH;FMTTYPE=image/png:https://massata.com/wp-content/uploads/2022/03/96f607_2892986dba3344248418500b9b5350e8_mv2-e1647828848605.png
END:VEVENT
BEGIN:VEVENT
DTSTART;VALUE=DATE:20220817
DTEND;VALUE=DATE:20220818
DTSTAMP:20260419T140525
CREATED:20220319T171703Z
LAST-MODIFIED:20220323T204731Z
UID:642-1660694400-1660780799@massata.com
SUMMARY:Lee "Big 50"
DESCRIPTION:
URL:https://massata.com/event/lee-big-50-12/
LOCATION:Lee Sportsmen’s Association\, 565 Fairview Street\, Lee\, MA\, 01238
CATEGORIES:Big 50
ATTACH;FMTTYPE=image/png:https://massata.com/wp-content/uploads/2021/10/Lee_Logo_Final.png
END:VEVENT
BEGIN:VEVENT
DTSTART;VALUE=DATE:20220810
DTEND;VALUE=DATE:20220811
DTSTAMP:20260419T140525
CREATED:20220319T171600Z
LAST-MODIFIED:20220323T204750Z
UID:640-1660089600-1660175999@massata.com
SUMMARY:Lee "Big 50"
DESCRIPTION:
URL:https://massata.com/event/lee-big-50-11/
LOCATION:Lee Sportsmen’s Association\, 565 Fairview Street\, Lee\, MA\, 01238
CATEGORIES:Big 50
ATTACH;FMTTYPE=image/png:https://massata.com/wp-content/uploads/2021/10/Lee_Logo_Final.png
END:VEVENT
BEGIN:VEVENT
DTSTART;VALUE=DATE:20220807
DTEND;VALUE=DATE:20220808
DTSTAMP:20260419T140525
CREATED:20220319T171449Z
LAST-MODIFIED:20220323T204816Z
UID:638-1659830400-1659916799@massata.com
SUMMARY:Memorial Shoot
DESCRIPTION:
URL:https://massata.com/event/memorial-shoot/
LOCATION:North Leominster Rod & Gun Club\, 1501 Lancaster Avenue\, Lunenburg\, MA\, 01462\, United States
CATEGORIES:ATA Shoot
ATTACH;FMTTYPE=image/png:https://massata.com/wp-content/uploads/2021/10/cropped-nlrg-e1609268403669-2.png
END:VEVENT
BEGIN:VEVENT
DTSTART;VALUE=DATE:20220803
DTEND;VALUE=DATE:20220814
DTSTAMP:20260419T140525
CREATED:20220319T171115Z
LAST-MODIFIED:20220323T204835Z
UID:633-1659484800-1660435199@massata.com
SUMMARY:The 123rd Grand American World Trapshooting Championships
DESCRIPTION:
URL:https://massata.com/event/the-123rd-grand-american-world-trapshooting-championships/
LOCATION:World Shooting Recreational Complex\, 1 Natural Resources Way\, Springfield\, IL\, 62702
CATEGORIES:ATA Shoot
ATTACH;FMTTYPE=image/jpeg:https://massata.com/wp-content/uploads/2021/11/logo.ata_.jpg
END:VEVENT
BEGIN:VEVENT
DTSTART;VALUE=DATE:20220803
DTEND;VALUE=DATE:20220804
DTSTAMP:20260419T140525
CREATED:20220319T171346Z
LAST-MODIFIED:20220323T204853Z
UID:636-1659484800-1659571199@massata.com
SUMMARY:Lee "Big 50"
DESCRIPTION:
URL:https://massata.com/event/lee-big-50-10/
LOCATION:Lee Sportsmen’s Association\, 565 Fairview Street\, Lee\, MA\, 01238
CATEGORIES:Big 50
ATTACH;FMTTYPE=image/png:https://massata.com/wp-content/uploads/2021/10/Lee_Logo_Final.png
END:VEVENT
BEGIN:VEVENT
DTSTART;VALUE=DATE:20220729
DTEND;VALUE=DATE:20220801
DTSTAMP:20260419T140525
CREATED:20220319T165620Z
LAST-MODIFIED:20220611T164515Z
UID:618-1659052800-1659311999@massata.com
SUMMARY:New Hampshire State Shoot
DESCRIPTION:
URL:https://massata.com/event/new-hampshire-state-shoot/
LOCATION:Minute Man Sportsmen’s Club\, 56R Francis Wyman Road\, Burlington\, MA\, 01803
CATEGORIES:ATA Shoot
ATTACH;FMTTYPE=image/png:https://massata.com/wp-content/uploads/2022/03/Screenshot-2022-03-19-8.55.19-AM.png
END:VEVENT
BEGIN:VEVENT
DTSTART;VALUE=DATE:20220727
DTEND;VALUE=DATE:20220728
DTSTAMP:20260419T140525
CREATED:20220319T170619Z
LAST-MODIFIED:20220323T204937Z
UID:631-1658880000-1658966399@massata.com
SUMMARY:Lee "Big 50"
DESCRIPTION:
URL:https://massata.com/event/lee-big-50-9/
LOCATION:Lee Sportsmen’s Association\, 565 Fairview Street\, Lee\, MA\, 01238
CATEGORIES:Big 50
ATTACH;FMTTYPE=image/png:https://massata.com/wp-content/uploads/2021/10/Lee_Logo_Final.png
END:VEVENT
BEGIN:VEVENT
DTSTART;TZID=America/New_York:20220724T090000
DTEND;TZID=America/New_York:20220724T140000
DTSTAMP:20260419T140525
CREATED:20220319T170451Z
LAST-MODIFIED:20220323T204955Z
UID:629-1658653200-1658671200@massata.com
SUMMARY:Buck Moon Shoot
DESCRIPTION:
URL:https://massata.com/event/fitchburg-shoot/
LOCATION:Fitchburg Rod & Gun Club\, 985 Richardson Road\, Ashby\, MA\, 01431
CATEGORIES:ATA Shoot
ATTACH;FMTTYPE=image/png:https://massata.com/wp-content/uploads/2022/03/96f607_2892986dba3344248418500b9b5350e8_mv2-e1647828848605.png
END:VEVENT
BEGIN:VEVENT
DTSTART;VALUE=DATE:20220721
DTEND;VALUE=DATE:20220722
DTSTAMP:20260419T140525
CREATED:20220319T182225Z
LAST-MODIFIED:20220323T205017Z
UID:718-1658361600-1658447999@massata.com
SUMMARY:Tewksbury Junior League
DESCRIPTION:
URL:https://massata.com/event/tewksbury-junior-league-18/
LOCATION:Tewksbury Rod & Gun Club\, 79 Chandler Street\, Tewksbury\, MA\, 01876
CATEGORIES:Junior Event
ATTACH;FMTTYPE=image/png:https://massata.com/wp-content/uploads/2021/10/Tewksbury_Logo_Final.png
END:VEVENT
BEGIN:VEVENT
DTSTART;VALUE=DATE:20220720
DTEND;VALUE=DATE:20220721
DTSTAMP:20260419T140525
CREATED:20220319T170319Z
LAST-MODIFIED:20220323T205052Z
UID:627-1658275200-1658361599@massata.com
SUMMARY:Lee "Big 50"
DESCRIPTION:
URL:https://massata.com/event/lee-big-50-8/
LOCATION:Lee Sportsmen’s Association\, 565 Fairview Street\, Lee\, MA\, 01238
CATEGORIES:Big 50
ATTACH;FMTTYPE=image/png:https://massata.com/wp-content/uploads/2021/10/Lee_Logo_Final.png
END:VEVENT
BEGIN:VEVENT
DTSTART;VALUE=DATE:20220717
DTEND;VALUE=DATE:20220718
DTSTAMP:20260419T140525
CREATED:20220319T170126Z
LAST-MODIFIED:20220323T205128Z
UID:625-1658016000-1658102399@massata.com
SUMMARY:Summer Shoot
DESCRIPTION:
URL:https://massata.com/event/summer-shoot/
LOCATION:Holbrook Sportsmen’s Club\, 150 Quincy Street\, Holbrook\, MA\, 02343
CATEGORIES:ATA Shoot
ATTACH;FMTTYPE=image/png:https://massata.com/wp-content/uploads/2021/10/Holbrook_Logo_Final.png
END:VEVENT
BEGIN:VEVENT
DTSTART;VALUE=DATE:20220714
DTEND;VALUE=DATE:20220715
DTSTAMP:20260419T140525
CREATED:20220319T182124Z
LAST-MODIFIED:20220323T210015Z
UID:716-1657756800-1657843199@massata.com
SUMMARY:Tewksbury Junior League
DESCRIPTION:
URL:https://massata.com/event/tewksbury-junior-league-17/
LOCATION:Tewksbury Rod & Gun Club\, 79 Chandler Street\, Tewksbury\, MA\, 01876
CATEGORIES:Junior Event
ATTACH;FMTTYPE=image/png:https://massata.com/wp-content/uploads/2021/10/Tewksbury_Logo_Final.png
END:VEVENT
BEGIN:VEVENT
DTSTART;VALUE=DATE:20220713
DTEND;VALUE=DATE:20220714
DTSTAMP:20260419T140525
CREATED:20220319T165933Z
LAST-MODIFIED:20220323T205826Z
UID:623-1657670400-1657756799@massata.com
SUMMARY:Lee "Big 50"
DESCRIPTION:
URL:https://massata.com/event/lee-big-50-7/
LOCATION:Lee Sportsmen’s Association\, 565 Fairview Street\, Lee\, MA\, 01238
CATEGORIES:Big 50
ATTACH;FMTTYPE=image/png:https://massata.com/wp-content/uploads/2021/10/Lee_Logo_Final.png
END:VEVENT
BEGIN:VEVENT
DTSTART;TZID=America/New_York:20220712T170000
DTEND;TZID=America/New_York:20220712T200000
DTSTAMP:20260419T140525
CREATED:20220319T165808Z
LAST-MODIFIED:20220323T205507Z
UID:621-1657645200-1657656000@massata.com
SUMMARY:Fitchburg Marathon
DESCRIPTION:
URL:https://massata.com/event/fitchburg-big-50-4/
LOCATION:Fitchburg Rod & Gun Club\, 985 Richardson Road\, Ashby\, MA\, 01431
CATEGORIES:Marathon
ATTACH;FMTTYPE=image/png:https://massata.com/wp-content/uploads/2022/03/96f607_2892986dba3344248418500b9b5350e8_mv2-e1647828848605.png
END:VEVENT
BEGIN:VEVENT
DTSTART;VALUE=DATE:20220710
DTEND;VALUE=DATE:20220711
DTSTAMP:20260419T140525
CREATED:20220320T165115Z
LAST-MODIFIED:20220323T205239Z
UID:736-1657411200-1657497599@massata.com
SUMMARY:Back In Business Shoot
DESCRIPTION:
URL:https://massata.com/event/back-in-business-shoot/
LOCATION:Royalston Fish & Game Club\, 49 Main Street\, Phillipston\, MA\, 01331
CATEGORIES:ATA Shoot
ATTACH;FMTTYPE=image/png:https://massata.com/wp-content/uploads/2021/10/Royalston_Logo_Final.png
END:VEVENT
BEGIN:VEVENT
DTSTART;VALUE=DATE:20220707
DTEND;VALUE=DATE:20220708
DTSTAMP:20260419T140525
CREATED:20220319T182007Z
LAST-MODIFIED:20220323T210044Z
UID:714-1657152000-1657238399@massata.com
SUMMARY:Tewksbury Junior League
DESCRIPTION:
URL:https://massata.com/event/tewksbury-junior-league-16/
LOCATION:Tewksbury Rod & Gun Club\, 79 Chandler Street\, Tewksbury\, MA\, 01876
CATEGORIES:Junior Event
ATTACH;FMTTYPE=image/png:https://massata.com/wp-content/uploads/2021/10/Tewksbury_Logo_Final.png
END:VEVENT
BEGIN:VEVENT
DTSTART;VALUE=DATE:20220706
DTEND;VALUE=DATE:20220707
DTSTAMP:20260419T140525
CREATED:20220319T165137Z
LAST-MODIFIED:20220323T205810Z
UID:616-1657065600-1657151999@massata.com
SUMMARY:Lee "Big 50"
DESCRIPTION:
URL:https://massata.com/event/lee-big-50-6/
LOCATION:Lee Sportsmen’s Association\, 565 Fairview Street\, Lee\, MA\, 01238
CATEGORIES:Big 50
ATTACH;FMTTYPE=image/png:https://massata.com/wp-content/uploads/2021/10/Lee_Logo_Final.png
END:VEVENT
BEGIN:VEVENT
DTSTART;VALUE=DATE:20220630
DTEND;VALUE=DATE:20220701
DTSTAMP:20260419T140525
CREATED:20220319T181840Z
LAST-MODIFIED:20220323T210105Z
UID:712-1656547200-1656633599@massata.com
SUMMARY:Tewksbury Junior League
DESCRIPTION:
URL:https://massata.com/event/tewksbury-junior-league-15/
LOCATION:Tewksbury Rod & Gun Club\, 79 Chandler Street\, Tewksbury\, MA\, 01876
CATEGORIES:Junior Event
ATTACH;FMTTYPE=image/png:https://massata.com/wp-content/uploads/2021/10/Tewksbury_Logo_Final.png
END:VEVENT
BEGIN:VEVENT
DTSTART;VALUE=DATE:20220629
DTEND;VALUE=DATE:20220630
DTSTAMP:20260419T140525
CREATED:20220314T011251Z
LAST-MODIFIED:20220323T205747Z
UID:612-1656460800-1656547199@massata.com
SUMMARY:Lee "Big 50"
DESCRIPTION:
URL:https://massata.com/event/lee-big-50-5/
LOCATION:Lee Sportsmen’s Association\, 565 Fairview Street\, Lee\, MA\, 01238
CATEGORIES:Big 50
ATTACH;FMTTYPE=image/png:https://massata.com/wp-content/uploads/2021/10/Lee_Logo_Final.png
END:VEVENT
BEGIN:VEVENT
DTSTART;VALUE=DATE:20220624
DTEND;VALUE=DATE:20220627
DTSTAMP:20260419T140525
CREATED:20220314T011134Z
LAST-MODIFIED:20220323T211315Z
UID:610-1656028800-1656287999@massata.com
SUMMARY:Connecticut State Shoot
DESCRIPTION:
URL:https://massata.com/event/connecticut-state-shoot/
LOCATION:MA
CATEGORIES:ATA Shoot
END:VEVENT
BEGIN:VEVENT
DTSTART;VALUE=DATE:20220623
DTEND;VALUE=DATE:20220624
DTSTAMP:20260419T140525
CREATED:20220319T181740Z
LAST-MODIFIED:20220323T210124Z
UID:710-1655942400-1656028799@massata.com
SUMMARY:Tewksbury Junior League
DESCRIPTION:
URL:https://massata.com/event/tewksbury-junior-league-14/
LOCATION:Tewksbury Rod & Gun Club\, 79 Chandler Street\, Tewksbury\, MA\, 01876
CATEGORIES:Junior Event
ATTACH;FMTTYPE=image/png:https://massata.com/wp-content/uploads/2021/10/Tewksbury_Logo_Final.png
END:VEVENT
BEGIN:VEVENT
DTSTART;VALUE=DATE:20220622
DTEND;VALUE=DATE:20220623
DTSTAMP:20260419T140525
CREATED:20220314T011015Z
LAST-MODIFIED:20220323T205729Z
UID:608-1655856000-1655942399@massata.com
SUMMARY:Lee "Big 50"
DESCRIPTION:
URL:https://massata.com/event/lee-big-50-4/
LOCATION:Lee Sportsmen’s Association\, 565 Fairview Street\, Lee\, MA\, 01238
CATEGORIES:Big 50
ATTACH;FMTTYPE=image/png:https://massata.com/wp-content/uploads/2021/10/Lee_Logo_Final.png
END:VEVENT
END:VCALENDAR