BEGIN:VCALENDAR
VERSION:2.0
PRODID:-//Massachusetts Amateur Trapshooting Association - ECPv6.15.20//NONSGML v1.0//EN
CALSCALE:GREGORIAN
METHOD:PUBLISH
X-WR-CALNAME:Massachusetts Amateur Trapshooting Association
X-ORIGINAL-URL:https://massata.com
X-WR-CALDESC:Events for Massachusetts Amateur Trapshooting Association
REFRESH-INTERVAL;VALUE=DURATION:PT1H
X-Robots-Tag:noindex
X-PUBLISHED-TTL:PT1H
BEGIN:VTIMEZONE
TZID:America/New_York
BEGIN:DAYLIGHT
TZOFFSETFROM:-0500
TZOFFSETTO:-0400
TZNAME:EDT
DTSTART:20220313T070000
END:DAYLIGHT
BEGIN:STANDARD
TZOFFSETFROM:-0400
TZOFFSETTO:-0500
TZNAME:EST
DTSTART:20221106T060000
END:STANDARD
BEGIN:DAYLIGHT
TZOFFSETFROM:-0500
TZOFFSETTO:-0400
TZNAME:EDT
DTSTART:20230312T070000
END:DAYLIGHT
BEGIN:STANDARD
TZOFFSETFROM:-0400
TZOFFSETTO:-0500
TZNAME:EST
DTSTART:20231105T060000
END:STANDARD
BEGIN:DAYLIGHT
TZOFFSETFROM:-0500
TZOFFSETTO:-0400
TZNAME:EDT
DTSTART:20240310T070000
END:DAYLIGHT
BEGIN:STANDARD
TZOFFSETFROM:-0400
TZOFFSETTO:-0500
TZNAME:EST
DTSTART:20241103T060000
END:STANDARD
BEGIN:DAYLIGHT
TZOFFSETFROM:-0500
TZOFFSETTO:-0400
TZNAME:EDT
DTSTART:20250309T070000
END:DAYLIGHT
BEGIN:STANDARD
TZOFFSETFROM:-0400
TZOFFSETTO:-0500
TZNAME:EST
DTSTART:20251102T060000
END:STANDARD
END:VTIMEZONE
BEGIN:VEVENT
DTSTART;TZID=America/New_York:20231213T170000
DTEND;TZID=America/New_York:20231213T190000
DTSTAMP:20260419T155101
CREATED:20230228T230906Z
LAST-MODIFIED:20230228T230906Z
UID:1229-1702486800-1702494000@massata.com
SUMMARY:Woburn Frozen Pair League - Doubles
DESCRIPTION:
URL:https://massata.com/event/woburn-frozen-pair-league-doubles-12/
LOCATION:Woburn Sportsman Club\, 155 Middlesex Turnpike\, Bedford\, MA\, 01730
CATEGORIES:League
ATTACH;FMTTYPE=image/png:https://massata.com/wp-content/uploads/2021/10/Woburn_Logo_Final.png
END:VEVENT
BEGIN:VEVENT
DTSTART;TZID=America/New_York:20231220T170000
DTEND;TZID=America/New_York:20231220T190000
DTSTAMP:20260419T155101
CREATED:20230228T230942Z
LAST-MODIFIED:20230228T230942Z
UID:1231-1703091600-1703098800@massata.com
SUMMARY:Woburn Frozen Pair League - Doubles
DESCRIPTION:
URL:https://massata.com/event/woburn-frozen-pair-league-doubles-13/
LOCATION:Woburn Sportsman Club\, 155 Middlesex Turnpike\, Bedford\, MA\, 01730
CATEGORIES:League
ATTACH;FMTTYPE=image/png:https://massata.com/wp-content/uploads/2021/10/Woburn_Logo_Final.png
END:VEVENT
BEGIN:VEVENT
DTSTART;TZID=America/New_York:20231227T170000
DTEND;TZID=America/New_York:20231227T190000
DTSTAMP:20260419T155101
CREATED:20230228T231025Z
LAST-MODIFIED:20230228T231025Z
UID:1233-1703696400-1703703600@massata.com
SUMMARY:Woburn Frozen Pair League - Doubles
DESCRIPTION:
URL:https://massata.com/event/woburn-frozen-pair-league-doubles-14/
LOCATION:Woburn Sportsman Club\, 155 Middlesex Turnpike\, Bedford\, MA\, 01730
CATEGORIES:League
ATTACH;FMTTYPE=image/png:https://massata.com/wp-content/uploads/2021/10/Woburn_Logo_Final.png
END:VEVENT
BEGIN:VEVENT
DTSTART;TZID=America/New_York:20240103T170000
DTEND;TZID=America/New_York:20240103T190000
DTSTAMP:20260419T155101
CREATED:20230228T231954Z
LAST-MODIFIED:20230228T231954Z
UID:1236-1704301200-1704308400@massata.com
SUMMARY:Woburn Frozen Pair League - Doubles
DESCRIPTION:
URL:https://massata.com/event/woburn-frozen-pair-league-doubles-15/
LOCATION:Woburn Sportsman Club\, 155 Middlesex Turnpike\, Bedford\, MA\, 01730
CATEGORIES:League
ATTACH;FMTTYPE=image/png:https://massata.com/wp-content/uploads/2021/10/Woburn_Logo_Final.png
END:VEVENT
BEGIN:VEVENT
DTSTART;TZID=America/New_York:20240110T170000
DTEND;TZID=America/New_York:20240110T190000
DTSTAMP:20260419T155101
CREATED:20230228T232130Z
LAST-MODIFIED:20230228T232130Z
UID:1238-1704906000-1704913200@massata.com
SUMMARY:Woburn Frozen Pair League - Doubles
DESCRIPTION:
URL:https://massata.com/event/woburn-frozen-pair-league-doubles-16/
LOCATION:Woburn Sportsman Club\, 155 Middlesex Turnpike\, Bedford\, MA\, 01730
CATEGORIES:League
ATTACH;FMTTYPE=image/png:https://massata.com/wp-content/uploads/2021/10/Woburn_Logo_Final.png
END:VEVENT
BEGIN:VEVENT
DTSTART;TZID=America/New_York:20240117T170000
DTEND;TZID=America/New_York:20240117T190000
DTSTAMP:20260419T155101
CREATED:20230228T232209Z
LAST-MODIFIED:20230228T232209Z
UID:1240-1705510800-1705518000@massata.com
SUMMARY:Woburn Frozen Pair League - Doubles
DESCRIPTION:
URL:https://massata.com/event/woburn-frozen-pair-league-doubles-17/
LOCATION:Woburn Sportsman Club\, 155 Middlesex Turnpike\, Bedford\, MA\, 01730
CATEGORIES:League
ATTACH;FMTTYPE=image/png:https://massata.com/wp-content/uploads/2021/10/Woburn_Logo_Final.png
END:VEVENT
BEGIN:VEVENT
DTSTART;TZID=America/New_York:20240124T170000
DTEND;TZID=America/New_York:20240124T190000
DTSTAMP:20260419T155101
CREATED:20230228T232246Z
LAST-MODIFIED:20230228T232246Z
UID:1242-1706115600-1706122800@massata.com
SUMMARY:Woburn Frozen Pair League - Doubles
DESCRIPTION:
URL:https://massata.com/event/woburn-frozen-pair-league-doubles-18/
LOCATION:Woburn Sportsman Club\, 155 Middlesex Turnpike\, Bedford\, MA\, 01730
CATEGORIES:League
ATTACH;FMTTYPE=image/png:https://massata.com/wp-content/uploads/2021/10/Woburn_Logo_Final.png
END:VEVENT
BEGIN:VEVENT
DTSTART;TZID=America/New_York:20240131T170000
DTEND;TZID=America/New_York:20240131T190000
DTSTAMP:20260419T155101
CREATED:20230228T232331Z
LAST-MODIFIED:20230228T232331Z
UID:1244-1706720400-1706727600@massata.com
SUMMARY:Woburn Frozen Pair League - Doubles
DESCRIPTION:
URL:https://massata.com/event/woburn-frozen-pair-league-doubles-19/
LOCATION:Woburn Sportsman Club\, 155 Middlesex Turnpike\, Bedford\, MA\, 01730
CATEGORIES:League
ATTACH;FMTTYPE=image/png:https://massata.com/wp-content/uploads/2021/10/Woburn_Logo_Final.png
END:VEVENT
BEGIN:VEVENT
DTSTART;TZID=America/New_York:20240207T170000
DTEND;TZID=America/New_York:20240207T190000
DTSTAMP:20260419T155101
CREATED:20230228T232441Z
LAST-MODIFIED:20230228T232441Z
UID:1246-1707325200-1707332400@massata.com
SUMMARY:Woburn Frozen Pair League - Doubles
DESCRIPTION:
URL:https://massata.com/event/woburn-frozen-pair-league-doubles-20/
LOCATION:Woburn Sportsman Club\, 155 Middlesex Turnpike\, Bedford\, MA\, 01730
CATEGORIES:League
ATTACH;FMTTYPE=image/png:https://massata.com/wp-content/uploads/2021/10/Woburn_Logo_Final.png
END:VEVENT
BEGIN:VEVENT
DTSTART;TZID=America/New_York:20240214T170000
DTEND;TZID=America/New_York:20240214T190000
DTSTAMP:20260419T155101
CREATED:20230228T232519Z
LAST-MODIFIED:20230228T232519Z
UID:1248-1707930000-1707937200@massata.com
SUMMARY:Woburn Frozen Pair League - Doubles
DESCRIPTION:
URL:https://massata.com/event/woburn-frozen-pair-league-doubles-21/
LOCATION:Woburn Sportsman Club\, 155 Middlesex Turnpike\, Bedford\, MA\, 01730
CATEGORIES:League
ATTACH;FMTTYPE=image/png:https://massata.com/wp-content/uploads/2021/10/Woburn_Logo_Final.png
END:VEVENT
BEGIN:VEVENT
DTSTART;TZID=America/New_York:20240221T170000
DTEND;TZID=America/New_York:20240221T190000
DTSTAMP:20260419T155101
CREATED:20230228T232608Z
LAST-MODIFIED:20230228T232608Z
UID:1250-1708534800-1708542000@massata.com
SUMMARY:Woburn Frozen Pair League - Doubles
DESCRIPTION:
URL:https://massata.com/event/woburn-frozen-pair-league-doubles-22/
LOCATION:Woburn Sportsman Club\, 155 Middlesex Turnpike\, Bedford\, MA\, 01730
CATEGORIES:League
ATTACH;FMTTYPE=image/png:https://massata.com/wp-content/uploads/2021/10/Woburn_Logo_Final.png
END:VEVENT
BEGIN:VEVENT
DTSTART;TZID=America/New_York:20240228T170000
DTEND;TZID=America/New_York:20240228T190000
DTSTAMP:20260419T155101
CREATED:20230228T232645Z
LAST-MODIFIED:20230228T232645Z
UID:1252-1709139600-1709146800@massata.com
SUMMARY:Woburn Frozen Pair League - Doubles
DESCRIPTION:
URL:https://massata.com/event/woburn-frozen-pair-league-doubles-23/
LOCATION:Woburn Sportsman Club\, 155 Middlesex Turnpike\, Bedford\, MA\, 01730
CATEGORIES:League
ATTACH;FMTTYPE=image/png:https://massata.com/wp-content/uploads/2021/10/Woburn_Logo_Final.png
END:VEVENT
BEGIN:VEVENT
DTSTART;TZID=America/New_York:20240306T170000
DTEND;TZID=America/New_York:20240306T190000
DTSTAMP:20260419T155101
CREATED:20230228T232734Z
LAST-MODIFIED:20230228T232734Z
UID:1254-1709744400-1709751600@massata.com
SUMMARY:Woburn Frozen Pair League - Doubles
DESCRIPTION:
URL:https://massata.com/event/woburn-frozen-pair-league-doubles-24/
LOCATION:Woburn Sportsman Club\, 155 Middlesex Turnpike\, Bedford\, MA\, 01730
CATEGORIES:League
ATTACH;FMTTYPE=image/png:https://massata.com/wp-content/uploads/2021/10/Woburn_Logo_Final.png
END:VEVENT
BEGIN:VEVENT
DTSTART;TZID=America/New_York:20240313T170000
DTEND;TZID=America/New_York:20240313T190000
DTSTAMP:20260419T155101
CREATED:20230228T232812Z
LAST-MODIFIED:20230228T232812Z
UID:1256-1710349200-1710356400@massata.com
SUMMARY:Woburn Frozen Pair League - Doubles
DESCRIPTION:
URL:https://massata.com/event/woburn-frozen-pair-league-doubles-25/
LOCATION:Woburn Sportsman Club\, 155 Middlesex Turnpike\, Bedford\, MA\, 01730
CATEGORIES:League
ATTACH;FMTTYPE=image/png:https://massata.com/wp-content/uploads/2021/10/Woburn_Logo_Final.png
END:VEVENT
BEGIN:VEVENT
DTSTART;TZID=America/New_York:20240406T090000
DTEND;TZID=America/New_York:20240406T120000
DTSTAMP:20260419T155101
CREATED:20240208T010849Z
LAST-MODIFIED:20240208T011654Z
UID:1304-1712394000-1712404800@massata.com
SUMMARY:Start of the Season Shoot (Marathon)
DESCRIPTION:
URL:https://massata.com/event/start-of-the-season-shoot/
LOCATION:North Leominster Rod & Gun Club\, 1501 Lancaster Avenue\, Lunenburg\, MA\, 01462\, United States
CATEGORIES:ATA Shoot,Marathon
ATTACH;FMTTYPE=image/png:https://massata.com/wp-content/uploads/2021/10/cropped-nlrg-e1609268403669-2.png
END:VEVENT
BEGIN:VEVENT
DTSTART;TZID=America/New_York:20240414T090000
DTEND;TZID=America/New_York:20240414T120000
DTSTAMP:20260419T155101
CREATED:20240208T012034Z
LAST-MODIFIED:20240208T012034Z
UID:1319-1713085200-1713096000@massata.com
SUMMARY:ATA Shoot
DESCRIPTION:
URL:https://massata.com/event/ata-shoot/
LOCATION:Royalston Fish & Game Club\, 49 Main Street\, Phillipston\, MA\, 01331
CATEGORIES:ATA Shoot
ATTACH;FMTTYPE=image/png:https://massata.com/wp-content/uploads/2021/10/Royalston_Logo_Final.png
END:VEVENT
BEGIN:VEVENT
DTSTART;TZID=America/New_York:20240421T090000
DTEND;TZID=America/New_York:20240421T120000
DTSTAMP:20260419T155101
CREATED:20240208T010949Z
LAST-MODIFIED:20240208T010949Z
UID:1306-1713690000-1713700800@massata.com
SUMMARY:Chasing the Middle 50
DESCRIPTION:
URL:https://massata.com/event/chasing-the-middle-50-3/
LOCATION:North Leominster Rod & Gun Club\, 1501 Lancaster Avenue\, Lunenburg\, MA\, 01462\, United States
CATEGORIES:ATA Shoot
ATTACH;FMTTYPE=image/png:https://massata.com/wp-content/uploads/2021/10/cropped-nlrg-e1609268403669-2.png
END:VEVENT
BEGIN:VEVENT
DTSTART;TZID=America/New_York:20240428T090000
DTEND;TZID=America/New_York:20240428T120000
DTSTAMP:20260419T155101
CREATED:20240208T012248Z
LAST-MODIFIED:20240426T011330Z
UID:1321-1714294800-1714305600@massata.com
SUMMARY:Cancelled: ATA Shoot
DESCRIPTION:The Fitchburg Sportsman’s Club of Ashburnham\, MA has an ATA registered shoot scheduled for 4/28/2024.  Unfortunately this shoot has been cancelled or postponed.  If the shoot is rescheduled a date will be announced when know.
URL:https://massata.com/event/ata-shoot-2/
LOCATION:Fitchburg Rod & Gun Club\, 985 Richardson Road\, Ashby\, MA\, 01431
CATEGORIES:ATA Shoot
ATTACH;FMTTYPE=image/jpeg:https://massata.com/wp-content/uploads/2024/02/event-cancelled-stamp-event-cancelled-sign-round-grunge-label-2DAGFHA-e1714093984212.jpg
END:VEVENT
BEGIN:VEVENT
DTSTART;TZID=America/New_York:20240505T090000
DTEND;TZID=America/New_York:20240505T120000
DTSTAMP:20260419T155101
CREATED:20240208T012420Z
LAST-MODIFIED:20240208T012420Z
UID:1323-1714899600-1714910400@massata.com
SUMMARY:ATA Shoot
DESCRIPTION:
URL:https://massata.com/event/ata-shoot-3/
LOCATION:Minute Man Sportsmen’s Club\, 56R Francis Wyman Road\, Burlington\, MA\, 01803
CATEGORIES:ATA Shoot
ATTACH;FMTTYPE=image/png:https://massata.com/wp-content/uploads/2021/10/MinuteMan_Logo_Final.png
END:VEVENT
BEGIN:VEVENT
DTSTART;TZID=America/New_York:20240508T080000
DTEND;TZID=America/New_York:20240508T170000
DTSTAMP:20260419T155101
CREATED:20240208T015046Z
LAST-MODIFIED:20240208T015141Z
UID:1343-1715155200-1715187600@massata.com
SUMMARY:20th Annual Empire Grand American
DESCRIPTION:
URL:https://massata.com/event/20th-annual-empire-grand-american/
LOCATION:NYSATA Homegrounds\, 7400 Bull Street\, Bridgeport\, NY\, 13030
CATEGORIES:ATA Shoot
ATTACH;FMTTYPE=image/png:https://massata.com/wp-content/uploads/2024/02/Empire_2024.png
END:VEVENT
BEGIN:VEVENT
DTSTART;TZID=America/New_York:20240509T090000
DTEND;TZID=America/New_York:20240509T170000
DTSTAMP:20260419T155101
CREATED:20240208T015228Z
LAST-MODIFIED:20240208T015228Z
UID:1346-1715245200-1715274000@massata.com
SUMMARY:20th Annual Empire Grand American
DESCRIPTION:
URL:https://massata.com/event/20th-annual-empire-grand-american-2/
LOCATION:NYSATA Homegrounds\, 7400 Bull Street\, Bridgeport\, NY\, 13030
CATEGORIES:ATA Shoot
ATTACH;FMTTYPE=image/png:https://massata.com/wp-content/uploads/2024/02/Empire_2024.png
END:VEVENT
BEGIN:VEVENT
DTSTART;TZID=America/New_York:20240510T090000
DTEND;TZID=America/New_York:20240510T170000
DTSTAMP:20260419T155101
CREATED:20240208T015352Z
LAST-MODIFIED:20240208T015352Z
UID:1348-1715331600-1715360400@massata.com
SUMMARY:20th Annual Empire Grand American
DESCRIPTION:
URL:https://massata.com/event/20th-annual-empire-grand-american-3/
LOCATION:NYSATA Homegrounds\, 7400 Bull Street\, Bridgeport\, NY\, 13030
CATEGORIES:ATA Shoot
ATTACH;FMTTYPE=image/png:https://massata.com/wp-content/uploads/2024/02/Empire_2024.png
END:VEVENT
BEGIN:VEVENT
DTSTART;TZID=America/New_York:20240511T090000
DTEND;TZID=America/New_York:20240511T170000
DTSTAMP:20260419T155101
CREATED:20240208T015439Z
LAST-MODIFIED:20240208T015439Z
UID:1350-1715418000-1715446800@massata.com
SUMMARY:20th Annual Empire Grand American
DESCRIPTION:
URL:https://massata.com/event/20th-annual-empire-grand-american-4/
LOCATION:NYSATA Homegrounds\, 7400 Bull Street\, Bridgeport\, NY\, 13030
CATEGORIES:ATA Shoot
ATTACH;FMTTYPE=image/png:https://massata.com/wp-content/uploads/2024/02/Empire_2024.png
END:VEVENT
BEGIN:VEVENT
DTSTART;TZID=America/New_York:20240512T090000
DTEND;TZID=America/New_York:20240512T170000
DTSTAMP:20260419T155101
CREATED:20240208T015529Z
LAST-MODIFIED:20240208T015529Z
UID:1352-1715504400-1715533200@massata.com
SUMMARY:20th Annual Empire Grand American
DESCRIPTION:
URL:https://massata.com/event/20th-annual-empire-grand-american-5/
LOCATION:NYSATA Homegrounds\, 7400 Bull Street\, Bridgeport\, NY\, 13030
CATEGORIES:ATA Shoot
ATTACH;FMTTYPE=image/png:https://massata.com/wp-content/uploads/2024/02/Empire_2024.png
END:VEVENT
BEGIN:VEVENT
DTSTART;TZID=America/New_York:20240519T090000
DTEND;TZID=America/New_York:20240519T120000
DTSTAMP:20260419T155101
CREATED:20240208T011102Z
LAST-MODIFIED:20240208T011102Z
UID:1308-1716109200-1716120000@massata.com
SUMMARY:Armed Forces Shoot
DESCRIPTION:
URL:https://massata.com/event/armed-forces-shoot-3/
LOCATION:North Leominster Rod & Gun Club\, 1501 Lancaster Avenue\, Lunenburg\, MA\, 01462\, United States
CATEGORIES:ATA Shoot
ATTACH;FMTTYPE=image/png:https://massata.com/wp-content/uploads/2021/10/cropped-nlrg-e1609268403669-2.png
END:VEVENT
BEGIN:VEVENT
DTSTART;TZID=America/New_York:20240526T090000
DTEND;TZID=America/New_York:20240526T120000
DTSTAMP:20260419T155101
CREATED:20240208T012625Z
LAST-MODIFIED:20240208T012625Z
UID:1325-1716714000-1716724800@massata.com
SUMMARY:ATA Shoot
DESCRIPTION:
URL:https://massata.com/event/ata-shoot-4/
LOCATION:Holbrook Sportsmen’s Club\, 150 Quincy Street\, Holbrook\, MA\, 02343
CATEGORIES:ATA Shoot
ATTACH;FMTTYPE=image/png:https://massata.com/wp-content/uploads/2021/10/Holbrook_Logo_Final.png
END:VEVENT
BEGIN:VEVENT
DTSTART;TZID=America/New_York:20240606T090000
DTEND;TZID=America/New_York:20240606T150000
DTSTAMP:20260419T155101
CREATED:20240208T005704Z
LAST-MODIFIED:20240208T010004Z
UID:1295-1717664400-1717686000@massata.com
SUMMARY:Massachusetts State Shoot | Bay State 400
DESCRIPTION:Mark your calendars… the Massachusetts State Shoot has been scheduled for June 6 – 9\, 2024. Similar to prior years\, the shoot will start with the Bay State 400 on June 6th\, Preliminary Shoot on June 7th\, Championship Singles on June 8th\, and Championship Handicap & Doubles on June 10th.
URL:https://massata.com/event/massachusetts-state-shoot-6/
LOCATION:Minute Man Sportsmen’s Club\, 56R Francis Wyman Road\, Burlington\, MA\, 01803
CATEGORIES:ATA Shoot
ATTACH;FMTTYPE=image/gif:https://massata.com/wp-content/uploads/2021/10/mata_logo.gif
END:VEVENT
BEGIN:VEVENT
DTSTART;TZID=America/New_York:20240607T090000
DTEND;TZID=America/New_York:20240607T150000
DTSTAMP:20260419T155101
CREATED:20240208T010125Z
LAST-MODIFIED:20240208T010125Z
UID:1298-1717750800-1717772400@massata.com
SUMMARY:Massachusetts State Shoot | Preliminary Shoot
DESCRIPTION:Mark your calendars… the Massachusetts State Shoot has been scheduled for June 6 – 9\, 2024. Similar to prior years\, the shoot will start with the Bay State 400 on June 6th\, Preliminary Shoot on June 7th\, Championship Singles on June 8th\, and Championship Handicap & Doubles on June 10th.
URL:https://massata.com/event/massachusetts-state-shoot-preliminary-shoot/
LOCATION:Minute Man Sportsmen’s Club\, 56R Francis Wyman Road\, Burlington\, MA\, 01803
CATEGORIES:ATA Shoot
ATTACH;FMTTYPE=image/gif:https://massata.com/wp-content/uploads/2021/10/mata_logo.gif
END:VEVENT
BEGIN:VEVENT
DTSTART;TZID=America/New_York:20240608T090000
DTEND;TZID=America/New_York:20240608T170000
DTSTAMP:20260419T155101
CREATED:20240208T010251Z
LAST-MODIFIED:20240208T010251Z
UID:1300-1717837200-1717866000@massata.com
SUMMARY:Massachusetts State Shoot | Championship Singles
DESCRIPTION:Mark your calendars… the Massachusetts State Shoot has been scheduled for June 6 – 9\, 2024. Similar to prior years\, the shoot will start with the Bay State 400 on June 6th\, Preliminary Shoot on June 7th\, Championship Singles on June 8th\, and Championship Handicap & Doubles on June 10th.
URL:https://massata.com/event/massachusetts-state-shoot-championship-singles/
LOCATION:Minute Man Sportsmen’s Club\, 56R Francis Wyman Road\, Burlington\, MA\, 01803
CATEGORIES:ATA Shoot
ATTACH;FMTTYPE=image/gif:https://massata.com/wp-content/uploads/2021/10/mata_logo.gif
END:VEVENT
BEGIN:VEVENT
DTSTART;TZID=America/New_York:20240609T090000
DTEND;TZID=America/New_York:20240609T170000
DTSTAMP:20260419T155101
CREATED:20240208T010406Z
LAST-MODIFIED:20240208T010406Z
UID:1302-1717923600-1717952400@massata.com
SUMMARY:Massachusetts State Shoot | Championship Handicap & Doubles
DESCRIPTION:Mark your calendars… the Massachusetts State Shoot has been scheduled for June 6 – 9\, 2024. Similar to prior years\, the shoot will start with the Bay State 400 on June 6th\, Preliminary Shoot on June 7th\, Championship Singles on June 8th\, and Championship Handicap & Doubles on June 10th.
URL:https://massata.com/event/massachusetts-state-shoot-championship-handicap-doubles/
LOCATION:Minute Man Sportsmen’s Club\, 56R Francis Wyman Road\, Burlington\, MA\, 01803
CATEGORIES:ATA Shoot
ATTACH;FMTTYPE=image/gif:https://massata.com/wp-content/uploads/2021/10/mata_logo.gif
END:VEVENT
END:VCALENDAR