BEGIN:VCALENDAR
VERSION:2.0
PRODID:-//Massachusetts Amateur Trapshooting Association - ECPv6.15.20//NONSGML v1.0//EN
CALSCALE:GREGORIAN
METHOD:PUBLISH
X-WR-CALNAME:Massachusetts Amateur Trapshooting Association
X-ORIGINAL-URL:https://massata.com
X-WR-CALDESC:Events for Massachusetts Amateur Trapshooting Association
REFRESH-INTERVAL;VALUE=DURATION:PT1H
X-Robots-Tag:noindex
X-PUBLISHED-TTL:PT1H
BEGIN:VTIMEZONE
TZID:America/New_York
BEGIN:DAYLIGHT
TZOFFSETFROM:-0500
TZOFFSETTO:-0400
TZNAME:EDT
DTSTART:20210314T070000
END:DAYLIGHT
BEGIN:STANDARD
TZOFFSETFROM:-0400
TZOFFSETTO:-0500
TZNAME:EST
DTSTART:20211107T060000
END:STANDARD
BEGIN:DAYLIGHT
TZOFFSETFROM:-0500
TZOFFSETTO:-0400
TZNAME:EDT
DTSTART:20220313T070000
END:DAYLIGHT
BEGIN:STANDARD
TZOFFSETFROM:-0400
TZOFFSETTO:-0500
TZNAME:EST
DTSTART:20221106T060000
END:STANDARD
BEGIN:DAYLIGHT
TZOFFSETFROM:-0500
TZOFFSETTO:-0400
TZNAME:EDT
DTSTART:20230312T070000
END:DAYLIGHT
BEGIN:STANDARD
TZOFFSETFROM:-0400
TZOFFSETTO:-0500
TZNAME:EST
DTSTART:20231105T060000
END:STANDARD
END:VTIMEZONE
BEGIN:VTIMEZONE
TZID:UTC
BEGIN:STANDARD
TZOFFSETFROM:+0000
TZOFFSETTO:+0000
TZNAME:UTC
DTSTART:20210101T000000
END:STANDARD
END:VTIMEZONE
BEGIN:VEVENT
DTSTART;VALUE=DATE:20220609
DTEND;VALUE=DATE:20220610
DTSTAMP:20260419T185554
CREATED:20220319T181326Z
LAST-MODIFIED:20220323T210223Z
UID:704-1654732800-1654819199@massata.com
SUMMARY:Tewksbury Junior League
DESCRIPTION:
URL:https://massata.com/event/tewksbury-junior-league-11/
LOCATION:Tewksbury Rod & Gun Club\, 79 Chandler Street\, Tewksbury\, MA\, 01876
CATEGORIES:Junior Event
ATTACH;FMTTYPE=image/png:https://massata.com/wp-content/uploads/2021/10/Tewksbury_Logo_Final.png
END:VEVENT
BEGIN:VEVENT
DTSTART;VALUE=DATE:20220608
DTEND;VALUE=DATE:20220609
DTSTAMP:20260419T185554
CREATED:20220314T010145Z
LAST-MODIFIED:20220323T205643Z
UID:598-1654646400-1654732799@massata.com
SUMMARY:Lee "Big 50"
DESCRIPTION:
URL:https://massata.com/event/lee-big-50-2/
LOCATION:Lee Sportsmen’s Association\, 565 Fairview Street\, Lee\, MA\, 01238
CATEGORIES:Big 50
ATTACH;FMTTYPE=image/png:https://massata.com/wp-content/uploads/2021/10/Lee_Logo_Final.png
END:VEVENT
BEGIN:VEVENT
DTSTART;VALUE=DATE:20220603
DTEND;VALUE=DATE:20220606
DTSTAMP:20260419T185554
CREATED:20220314T005532Z
LAST-MODIFIED:20220323T211300Z
UID:591-1654214400-1654473599@massata.com
SUMMARY:Rhode Island State Shoot
DESCRIPTION:
URL:https://massata.com/event/rhode-island-state-shoot/
LOCATION:Wallum Lake Rod and Gun Club\, 200 Brook Road\, Burrillville\, RI\, 02830
CATEGORIES:ATA Shoot
END:VEVENT
BEGIN:VEVENT
DTSTART;VALUE=DATE:20220602
DTEND;VALUE=DATE:20220603
DTSTAMP:20260419T185554
CREATED:20220319T181214Z
LAST-MODIFIED:20220323T210243Z
UID:702-1654128000-1654214399@massata.com
SUMMARY:Tewksbury Junior League
DESCRIPTION:
URL:https://massata.com/event/tewksbury-junior-league-10/
LOCATION:Tewksbury Rod & Gun Club\, 79 Chandler Street\, Tewksbury\, MA\, 01876
CATEGORIES:Junior Event
ATTACH;FMTTYPE=image/png:https://massata.com/wp-content/uploads/2021/10/Tewksbury_Logo_Final.png
END:VEVENT
BEGIN:VEVENT
DTSTART;TZID=America/New_York:20220601T170000
DTEND;TZID=America/New_York:20220601T200000
DTSTAMP:20260419T185554
CREATED:20220314T004555Z
LAST-MODIFIED:20220323T210340Z
UID:586-1654102800-1654113600@massata.com
SUMMARY:Night Shoot
DESCRIPTION:All 3 events available\, as long as we have 3 shooters per event. (Singles\, Handicap\, & Doubles). \nBring all your fellow shooters. Fields available for practice and public shooters as well. No prizes or options\, just Fun. \nClick Here for the Shoot Program.
URL:https://massata.com/event/night-shoot-4/
LOCATION:Royalston Fish & Game Club\, 49 Main Street\, Phillipston\, MA\, 01331
CATEGORIES:ATA Shoot
ATTACH;FMTTYPE=image/png:https://massata.com/wp-content/uploads/2021/10/Royalston_Logo_Final.png
END:VEVENT
BEGIN:VEVENT
DTSTART;VALUE=DATE:20220601
DTEND;VALUE=DATE:20220602
DTSTAMP:20260419T185554
CREATED:20220314T005010Z
LAST-MODIFIED:20220323T205623Z
UID:588-1654041600-1654127999@massata.com
SUMMARY:Lee "Big 50"
DESCRIPTION:
URL:https://massata.com/event/lee-big-50/
LOCATION:Lee Sportsmen’s Association\, 565 Fairview Street\, Lee\, MA\, 01238
CATEGORIES:Big 50
ATTACH;FMTTYPE=image/png:https://massata.com/wp-content/uploads/2021/10/Lee_Logo_Final.png
END:VEVENT
BEGIN:VEVENT
DTSTART;TZID=America/New_York:20220531T170000
DTEND;TZID=America/New_York:20220531T200000
DTSTAMP:20260419T185554
CREATED:20220314T005957Z
LAST-MODIFIED:20220323T205429Z
UID:596-1654016400-1654027200@massata.com
SUMMARY:Fitchburg Marathon
DESCRIPTION:
URL:https://massata.com/event/fitchburg-big-50-2/
LOCATION:Fitchburg Rod & Gun Club\, 985 Richardson Road\, Ashby\, MA\, 01431
CATEGORIES:Marathon
ATTACH;FMTTYPE=image/png:https://massata.com/wp-content/uploads/2022/03/96f607_2892986dba3344248418500b9b5350e8_mv2-e1647828848605.png
END:VEVENT
BEGIN:VEVENT
DTSTART;VALUE=DATE:20220531
DTEND;VALUE=DATE:20220601
DTSTAMP:20260419T185554
CREATED:20220314T004207Z
LAST-MODIFIED:20220323T205546Z
UID:584-1653955200-1654041599@massata.com
SUMMARY:Holbrook Marathon
DESCRIPTION:
URL:https://massata.com/event/holbrook-marathon/
LOCATION:Holbrook Sportsmen’s Club\, 150 Quincy Street\, Holbrook\, MA\, 02343
CATEGORIES:Marathon
ATTACH;FMTTYPE=image/png:https://massata.com/wp-content/uploads/2021/10/Holbrook_Logo_Final.png
END:VEVENT
BEGIN:VEVENT
DTSTART;VALUE=DATE:20220529
DTEND;VALUE=DATE:20220530
DTSTAMP:20260419T185554
CREATED:20220314T003854Z
LAST-MODIFIED:20220503T020618Z
UID:579-1653782400-1653868799@massata.com
SUMMARY:May Cup Shoot
DESCRIPTION:
URL:https://massata.com/event/may-cup-shoot/
LOCATION:Holbrook Sportsmen’s Club\, 150 Quincy Street\, Holbrook\, MA\, 02343
CATEGORIES:ATA Shoot
ATTACH;FMTTYPE=image/png:https://massata.com/wp-content/uploads/2021/10/Holbrook_Logo_Final.png
END:VEVENT
BEGIN:VEVENT
DTSTART;VALUE=DATE:20220526
DTEND;VALUE=DATE:20220527
DTSTAMP:20260419T185554
CREATED:20220319T181033Z
LAST-MODIFIED:20220323T210404Z
UID:700-1653523200-1653609599@massata.com
SUMMARY:Tewksbury Junior League
DESCRIPTION:
URL:https://massata.com/event/tewksbury-junior-league-9/
LOCATION:Tewksbury Rod & Gun Club\, 79 Chandler Street\, Tewksbury\, MA\, 01876
CATEGORIES:Junior Event
ATTACH;FMTTYPE=image/png:https://massata.com/wp-content/uploads/2021/10/Tewksbury_Logo_Final.png
END:VEVENT
BEGIN:VEVENT
DTSTART;TZID=America/New_York:20220525T170000
DTEND;TZID=America/New_York:20220525T200000
DTSTAMP:20260419T185554
CREATED:20220314T004028Z
LAST-MODIFIED:20220323T210425Z
UID:582-1653498000-1653508800@massata.com
SUMMARY:Night Shoot
DESCRIPTION:All 3 events available\, as long as we have 3 shooters per event. (Singles\, Handicap\, & Doubles). \nBring all your fellow shooters. Fields available for practice and public shooters as well. No prizes or options\, just Fun.
URL:https://massata.com/event/night-shoot-3/
LOCATION:Royalston Fish & Game Club\, 49 Main Street\, Phillipston\, MA\, 01331
CATEGORIES:ATA Shoot
ATTACH;FMTTYPE=image/png:https://massata.com/wp-content/uploads/2021/10/Royalston_Logo_Final.png
END:VEVENT
BEGIN:VEVENT
DTSTART;TZID=America/New_York:20220522T090000
DTEND;TZID=America/New_York:20220522T150000
DTSTAMP:20260419T185554
CREATED:20220503T020815Z
LAST-MODIFIED:20220503T020815Z
UID:886-1653210000-1653231600@massata.com
SUMMARY:Armed Forces Shoot
DESCRIPTION:
URL:https://massata.com/event/armed-forces-shoot/
LOCATION:North Leominster Rod & Gun Club\, 1501 Lancaster Avenue\, Lunenburg\, MA\, 01462\, United States
CATEGORIES:ATA Shoot
ATTACH;FMTTYPE=image/png:https://massata.com/wp-content/uploads/2021/10/cropped-nlrg-e1609268403669-2.png
END:VEVENT
BEGIN:VEVENT
DTSTART;VALUE=DATE:20220519
DTEND;VALUE=DATE:20220520
DTSTAMP:20260419T185554
CREATED:20220319T180912Z
LAST-MODIFIED:20220323T210445Z
UID:698-1652918400-1653004799@massata.com
SUMMARY:Tewksbury Junior League
DESCRIPTION:
URL:https://massata.com/event/tewksbury-junior-league-8/
LOCATION:Tewksbury Rod & Gun Club\, 79 Chandler Street\, Tewksbury\, MA\, 01876
CATEGORIES:Junior Event
ATTACH;FMTTYPE=image/png:https://massata.com/wp-content/uploads/2021/10/Tewksbury_Logo_Final.png
END:VEVENT
BEGIN:VEVENT
DTSTART;VALUE=DATE:20220519
DTEND;VALUE=DATE:20220520
DTSTAMP:20260419T185554
CREATED:20220314T003540Z
LAST-MODIFIED:20220323T210503Z
UID:577-1652918400-1653004799@massata.com
SUMMARY:Tewksbury "Big 50"
DESCRIPTION:
URL:https://massata.com/event/tewksbury-big-50-3/
LOCATION:Tewksbury Rod & Gun Club\, 79 Chandler Street\, Tewksbury\, MA\, 01876
CATEGORIES:Big 50
ATTACH;FMTTYPE=image/png:https://massata.com/wp-content/uploads/2021/10/Tewksbury_Logo_Final.png
END:VEVENT
BEGIN:VEVENT
DTSTART;TZID=America/New_York:20220518T170000
DTEND;TZID=America/New_York:20220518T200000
DTSTAMP:20260419T185554
CREATED:20220314T002400Z
LAST-MODIFIED:20220323T210521Z
UID:570-1652893200-1652904000@massata.com
SUMMARY:Night Shoot
DESCRIPTION:All 3 events available\, as long as we have 3 shooters per event. (Singles\, Handicap\, & Doubles). \nBring all your fellow shooters. Fields available for practice and public shooters as well. No prizes or options\, just Fun.
URL:https://massata.com/event/night-shoot-2/
LOCATION:Royalston Fish & Game Club\, 49 Main Street\, Phillipston\, MA\, 01331
CATEGORIES:ATA Shoot
ATTACH;FMTTYPE=image/png:https://massata.com/wp-content/uploads/2021/10/Royalston_Logo_Final.png
END:VEVENT
BEGIN:VEVENT
DTSTART;VALUE=DATE:20220518
DTEND;VALUE=DATE:20220523
DTSTAMP:20260419T185554
CREATED:20220314T003221Z
LAST-MODIFIED:20220323T205355Z
UID:572-1652832000-1653263999@massata.com
SUMMARY:Empire Grand
DESCRIPTION:
URL:https://massata.com/event/empire-grand/
LOCATION:NYSATA Homegrounds\, 7400 Bull Street\, Bridgeport\, NY\, 13030
CATEGORIES:ATA Shoot
ATTACH;FMTTYPE=image/jpeg:https://massata.com/wp-content/uploads/2022/03/Emblem2.jpg
END:VEVENT
BEGIN:VEVENT
DTSTART;TZID=America/New_York:20220515T090000
DTEND;TZID=America/New_York:20220515T130000
DTSTAMP:20260419T185554
CREATED:20220504T175636Z
LAST-MODIFIED:20220504T175636Z
UID:890-1652605200-1652619600@massata.com
SUMMARY:Delegates Cup
DESCRIPTION:
URL:https://massata.com/event/delegates-cup/
LOCATION:Minute Man Sportsmen’s Club\, 56R Francis Wyman Road\, Burlington\, MA\, 01803
CATEGORIES:ATA Shoot
ATTACH;FMTTYPE=image/png:https://massata.com/wp-content/uploads/2021/10/MinuteMan_Logo_Final.png
END:VEVENT
BEGIN:VEVENT
DTSTART;VALUE=DATE:20220514
DTEND;VALUE=DATE:20220515
DTSTAMP:20260419T185554
CREATED:20220314T002033Z
LAST-MODIFIED:20220323T205343Z
UID:567-1652486400-1652572799@massata.com
SUMMARY:Danvers "Big 50"
DESCRIPTION:
URL:https://massata.com/event/danvers-big-50/
LOCATION:Danvers Fish & Game Club\, 20 Birch Road\, Middleton\, MA\, 01949
CATEGORIES:Big 50
ATTACH;FMTTYPE=image/png:https://massata.com/wp-content/uploads/2021/10/Danvers_Logo_Final.png
END:VEVENT
BEGIN:VEVENT
DTSTART;VALUE=DATE:20220514
DTEND;VALUE=DATE:20220515
DTSTAMP:20260419T185554
CREATED:20220314T001723Z
LAST-MODIFIED:20220323T210542Z
UID:565-1652486400-1652572799@massata.com
SUMMARY:Westford Marathon
DESCRIPTION:
URL:https://massata.com/event/westford-marathon-2/
LOCATION:Westford Sportsmen’s Club\, 80 West Street\, Westford\, MA\, 01886
CATEGORIES:Marathon
ATTACH;FMTTYPE=image/png:https://massata.com/wp-content/uploads/2021/10/Westford_Logo_Final.png
END:VEVENT
BEGIN:VEVENT
DTSTART;VALUE=DATE:20220512
DTEND;VALUE=DATE:20220513
DTSTAMP:20260419T185554
CREATED:20220319T180759Z
LAST-MODIFIED:20220323T210602Z
UID:696-1652313600-1652399999@massata.com
SUMMARY:Tewksbury Junior League
DESCRIPTION:
URL:https://massata.com/event/tewksbury-junior-league-7/
LOCATION:Tewksbury Rod & Gun Club\, 79 Chandler Street\, Tewksbury\, MA\, 01876
CATEGORIES:Junior Event
ATTACH;FMTTYPE=image/png:https://massata.com/wp-content/uploads/2021/10/Tewksbury_Logo_Final.png
END:VEVENT
BEGIN:VEVENT
DTSTART;TZID=America/New_York:20220511T170000
DTEND;TZID=America/New_York:20220511T200000
DTSTAMP:20260419T185554
CREATED:20220314T001548Z
LAST-MODIFIED:20220323T210619Z
UID:563-1652288400-1652299200@massata.com
SUMMARY:Night Shoot
DESCRIPTION:All 3 events available\, as long as we have 3 shooters per event. (Singles\, Handicap\, & Doubles). \nBring all your fellow shooters. Fields available for practice and public shooters as well. No prizes or options\, just Fun.
URL:https://massata.com/event/night-shoot/
LOCATION:Royalston Fish & Game Club\, 49 Main Street\, Phillipston\, MA\, 01331
CATEGORIES:ATA Shoot
ATTACH;FMTTYPE=image/png:https://massata.com/wp-content/uploads/2021/10/Royalston_Logo_Final.png
END:VEVENT
BEGIN:VEVENT
DTSTART;TZID=America/New_York:20220510T170000
DTEND;TZID=America/New_York:20220510T200000
DTSTAMP:20260419T185554
CREATED:20220314T001332Z
LAST-MODIFIED:20220323T205411Z
UID:559-1652202000-1652212800@massata.com
SUMMARY:Fitchburg Marathon
DESCRIPTION:
URL:https://massata.com/event/fitchburg-big-50/
LOCATION:Fitchburg Rod & Gun Club\, 985 Richardson Road\, Ashby\, MA\, 01431
CATEGORIES:Marathon
ATTACH;FMTTYPE=image/png:https://massata.com/wp-content/uploads/2022/03/96f607_2892986dba3344248418500b9b5350e8_mv2-e1647828848605.png
END:VEVENT
BEGIN:VEVENT
DTSTART;TZID=America/New_York:20220507T100000
DTEND;TZID=America/New_York:20220507T130000
DTSTAMP:20260419T185554
CREATED:20220504T175319Z
LAST-MODIFIED:20220504T175319Z
UID:888-1651917600-1651928400@massata.com
SUMMARY:Holbrook Marathon
DESCRIPTION:
URL:https://massata.com/event/holbrook-marathon-2/
LOCATION:Holbrook Sportsmen’s Club\, 150 Quincy Street\, Holbrook\, MA\, 02343
CATEGORIES:Marathon
ATTACH;FMTTYPE=image/png:https://massata.com/wp-content/uploads/2021/10/Holbrook_Logo_Final.png
END:VEVENT
BEGIN:VEVENT
DTSTART;VALUE=DATE:20220505
DTEND;VALUE=DATE:20220506
DTSTAMP:20260419T185554
CREATED:20220319T180559Z
LAST-MODIFIED:20220323T210636Z
UID:694-1651708800-1651795199@massata.com
SUMMARY:Tewksbury Junior League
DESCRIPTION:
URL:https://massata.com/event/tewksbury-junior-league-6/
LOCATION:Tewksbury Rod & Gun Club\, 79 Chandler Street\, Tewksbury\, MA\, 01876
CATEGORIES:Junior Event
ATTACH;FMTTYPE=image/png:https://massata.com/wp-content/uploads/2021/10/Tewksbury_Logo_Final.png
END:VEVENT
BEGIN:VEVENT
DTSTART;VALUE=DATE:20220505
DTEND;VALUE=DATE:20220506
DTSTAMP:20260419T185554
CREATED:20220314T000407Z
LAST-MODIFIED:20220323T210652Z
UID:557-1651708800-1651795199@massata.com
SUMMARY:Tewksbury "Big 50"
DESCRIPTION:
URL:https://massata.com/event/tewksbury-big-50-2/
LOCATION:Tewksbury Rod & Gun Club\, 79 Chandler Street\, Tewksbury\, MA\, 01876
CATEGORIES:Big 50
ATTACH;FMTTYPE=image/png:https://massata.com/wp-content/uploads/2021/10/Tewksbury_Logo_Final.png
END:VEVENT
BEGIN:VEVENT
DTSTART;VALUE=DATE:20220501
DTEND;VALUE=DATE:20220502
DTSTAMP:20260419T185554
CREATED:20220314T000206Z
LAST-MODIFIED:20220323T210731Z
UID:554-1651363200-1651449599@massata.com
SUMMARY:Spring Shoot
DESCRIPTION:
URL:https://massata.com/event/spring-shoot/
LOCATION:Minute Man Sportsmen’s Club\, 56R Francis Wyman Road\, Burlington\, MA\, 01803
CATEGORIES:ATA Shoot
ATTACH;FMTTYPE=image/png:https://massata.com/wp-content/uploads/2021/10/MinuteMan_Logo_Final.png
END:VEVENT
BEGIN:VEVENT
DTSTART;VALUE=DATE:20220428
DTEND;VALUE=DATE:20220429
DTSTAMP:20260419T185554
CREATED:20220319T180418Z
LAST-MODIFIED:20220323T210848Z
UID:692-1651104000-1651190399@massata.com
SUMMARY:Tewksbury Junior League
DESCRIPTION:
URL:https://massata.com/event/tewksbury-junior-league-5/
LOCATION:Tewksbury Rod & Gun Club\, 79 Chandler Street\, Tewksbury\, MA\, 01876
CATEGORIES:Junior Event
ATTACH;FMTTYPE=image/png:https://massata.com/wp-content/uploads/2021/10/Tewksbury_Logo_Final.png
END:VEVENT
BEGIN:VEVENT
DTSTART;TZID=America/New_York:20220424T090000
DTEND;TZID=America/New_York:20220424T140000
DTSTAMP:20260419T185554
CREATED:20220313T235707Z
LAST-MODIFIED:20220328T050458Z
UID:552-1650790800-1650808800@massata.com
SUMMARY:Chasing the Middle 50
DESCRIPTION:
URL:https://massata.com/event/chasing-the-middle-50/
LOCATION:North Leominster Rod & Gun Club\, 1501 Lancaster Avenue\, Lunenburg\, MA\, 01462\, United States
CATEGORIES:ATA Shoot
ATTACH;FMTTYPE=image/png:https://massata.com/wp-content/uploads/2021/10/cropped-nlrg-e1609268403669-2.png
END:VEVENT
BEGIN:VEVENT
DTSTART;TZID=America/New_York:20220423T090000
DTEND;TZID=America/New_York:20220423T130000
DTSTAMP:20260419T185554
CREATED:20220402T223644Z
LAST-MODIFIED:20220402T223644Z
UID:842-1650704400-1650718800@massata.com
SUMMARY:Hopkinton Marathon
DESCRIPTION:
URL:https://massata.com/event/hopkinton-marathon-2/
LOCATION:Hopkinton Sportsmen’s Association\, 95 Lumber Street\, Hopkinton\, MA\, 01748
CATEGORIES:Marathon
ATTACH;FMTTYPE=image/png:https://massata.com/wp-content/uploads/2021/10/Hopkinton_Logo_Final.png
END:VEVENT
BEGIN:VEVENT
DTSTART;VALUE=DATE:20220423
DTEND;VALUE=DATE:20220424
DTSTAMP:20260419T185554
CREATED:20220313T234825Z
LAST-MODIFIED:20220323T210905Z
UID:550-1650672000-1650758399@massata.com
SUMMARY:Tewksbury Marathon
DESCRIPTION:
URL:https://massata.com/event/tewksbury-marathon/
LOCATION:Tewksbury Rod & Gun Club\, 79 Chandler Street\, Tewksbury\, MA\, 01876
CATEGORIES:Marathon
ATTACH;FMTTYPE=image/png:https://massata.com/wp-content/uploads/2021/10/Tewksbury_Logo_Final.png
END:VEVENT
END:VCALENDAR