BEGIN:VCALENDAR
VERSION:2.0
PRODID:-//Massachusetts Amateur Trapshooting Association - ECPv6.15.20//NONSGML v1.0//EN
CALSCALE:GREGORIAN
METHOD:PUBLISH
X-ORIGINAL-URL:https://massata.com
X-WR-CALDESC:Events for Massachusetts Amateur Trapshooting Association
REFRESH-INTERVAL;VALUE=DURATION:PT1H
X-Robots-Tag:noindex
X-PUBLISHED-TTL:PT1H
BEGIN:VTIMEZONE
TZID:America/New_York
BEGIN:DAYLIGHT
TZOFFSETFROM:-0500
TZOFFSETTO:-0400
TZNAME:EDT
DTSTART:20250309T070000
END:DAYLIGHT
BEGIN:STANDARD
TZOFFSETFROM:-0400
TZOFFSETTO:-0500
TZNAME:EST
DTSTART:20251102T060000
END:STANDARD
BEGIN:DAYLIGHT
TZOFFSETFROM:-0500
TZOFFSETTO:-0400
TZNAME:EDT
DTSTART:20260308T070000
END:DAYLIGHT
BEGIN:STANDARD
TZOFFSETFROM:-0400
TZOFFSETTO:-0500
TZNAME:EST
DTSTART:20261101T060000
END:STANDARD
BEGIN:DAYLIGHT
TZOFFSETFROM:-0500
TZOFFSETTO:-0400
TZNAME:EDT
DTSTART:20270314T070000
END:DAYLIGHT
BEGIN:STANDARD
TZOFFSETFROM:-0400
TZOFFSETTO:-0500
TZNAME:EST
DTSTART:20271107T060000
END:STANDARD
END:VTIMEZONE
BEGIN:VEVENT
DTSTART;TZID=America/New_York:20260314T083000
DTEND;TZID=America/New_York:20260314T120000
DTSTAMP:20260424T074055
CREATED:20260320T205909Z
LAST-MODIFIED:20260320T211329Z
UID:1776-1773477000-1773489600@massata.com
SUMMARY:Hopkinton | Marathon
DESCRIPTION:
URL:https://massata.com/event/hopkinton-marathon-4/
LOCATION:Hopkinton Sportsmen’s Association\, 95 Lumber Street\, Hopkinton\, MA\, 01748
CATEGORIES:Marathon
END:VEVENT
BEGIN:VEVENT
DTSTART;TZID=America/New_York:20260326T000000
DTEND;TZID=America/New_York:20260326T000000
DTSTAMP:20260424T074055
CREATED:20260320T205910Z
LAST-MODIFIED:20260320T211329Z
UID:1777-1774483200-1774483200@massata.com
SUMMARY:Tewksbury | SCTP League
DESCRIPTION:
URL:https://massata.com/event/tewksbury-sctp-league/
LOCATION:Tewksbury Rod & Gun Club\, 79 Chandler Street\, Tewksbury\, MA\, 01876
CATEGORIES:ATA Shoot
END:VEVENT
BEGIN:VEVENT
DTSTART;TZID=America/New_York:20260328T083000
DTEND;TZID=America/New_York:20260328T120000
DTSTAMP:20260424T074055
CREATED:20260320T205912Z
LAST-MODIFIED:20260320T211329Z
UID:1778-1774686600-1774699200@massata.com
SUMMARY:Uxbridge | Marathon
DESCRIPTION:
URL:https://massata.com/event/uxbridge-marathon/
LOCATION:Uxbridge Rod and Gun Club
CATEGORIES:Marathon
END:VEVENT
END:VCALENDAR