BEGIN:VCALENDAR
VERSION:2.0
PRODID:-//Massachusetts Amateur Trapshooting Association - ECPv6.15.20//NONSGML v1.0//EN
CALSCALE:GREGORIAN
METHOD:PUBLISH
X-WR-CALNAME:Massachusetts Amateur Trapshooting Association
X-ORIGINAL-URL:https://massata.com
X-WR-CALDESC:Events for Massachusetts Amateur Trapshooting Association
REFRESH-INTERVAL;VALUE=DURATION:PT1H
X-Robots-Tag:noindex
X-PUBLISHED-TTL:PT1H
BEGIN:VTIMEZONE
TZID:America/New_York
BEGIN:DAYLIGHT
TZOFFSETFROM:-0500
TZOFFSETTO:-0400
TZNAME:EDT
DTSTART:20210314T070000
END:DAYLIGHT
BEGIN:STANDARD
TZOFFSETFROM:-0400
TZOFFSETTO:-0500
TZNAME:EST
DTSTART:20211107T060000
END:STANDARD
BEGIN:DAYLIGHT
TZOFFSETFROM:-0500
TZOFFSETTO:-0400
TZNAME:EDT
DTSTART:20220313T070000
END:DAYLIGHT
BEGIN:STANDARD
TZOFFSETFROM:-0400
TZOFFSETTO:-0500
TZNAME:EST
DTSTART:20221106T060000
END:STANDARD
BEGIN:DAYLIGHT
TZOFFSETFROM:-0500
TZOFFSETTO:-0400
TZNAME:EDT
DTSTART:20230312T070000
END:DAYLIGHT
BEGIN:STANDARD
TZOFFSETFROM:-0400
TZOFFSETTO:-0500
TZNAME:EST
DTSTART:20231105T060000
END:STANDARD
END:VTIMEZONE
BEGIN:VEVENT
DTSTART;VALUE=DATE:20220609
DTEND;VALUE=DATE:20220613
DTSTAMP:20260422T175626
CREATED:20220314T005725Z
LAST-MODIFIED:20220503T021011Z
UID:594-1654732800-1655078399@massata.com
SUMMARY:Massachusetts State Shoot
DESCRIPTION:
URL:https://massata.com/event/massachusetts-state-shoot/
LOCATION:Minute Man Sportsmen’s Club\, 56R Francis Wyman Road\, Burlington\, MA\, 01803
CATEGORIES:ATA Shoot
ATTACH;FMTTYPE=image/gif:https://massata.com/wp-content/uploads/2021/10/mata_logo.gif
END:VEVENT
END:VCALENDAR