BEGIN:VCALENDAR
VERSION:2.0
PRODID:-//Massachusetts Amateur Trapshooting Association - ECPv6.15.20//NONSGML v1.0//EN
CALSCALE:GREGORIAN
METHOD:PUBLISH
X-WR-CALNAME:Massachusetts Amateur Trapshooting Association
X-ORIGINAL-URL:https://massata.com
X-WR-CALDESC:Events for Massachusetts Amateur Trapshooting Association
REFRESH-INTERVAL;VALUE=DURATION:PT1H
X-Robots-Tag:noindex
X-PUBLISHED-TTL:PT1H
BEGIN:VTIMEZONE
TZID:America/New_York
BEGIN:DAYLIGHT
TZOFFSETFROM:-0500
TZOFFSETTO:-0400
TZNAME:EDT
DTSTART:20210314T070000
END:DAYLIGHT
BEGIN:STANDARD
TZOFFSETFROM:-0400
TZOFFSETTO:-0500
TZNAME:EST
DTSTART:20211107T060000
END:STANDARD
BEGIN:DAYLIGHT
TZOFFSETFROM:-0500
TZOFFSETTO:-0400
TZNAME:EDT
DTSTART:20220313T070000
END:DAYLIGHT
BEGIN:STANDARD
TZOFFSETFROM:-0400
TZOFFSETTO:-0500
TZNAME:EST
DTSTART:20221106T060000
END:STANDARD
BEGIN:DAYLIGHT
TZOFFSETFROM:-0500
TZOFFSETTO:-0400
TZNAME:EDT
DTSTART:20230312T070000
END:DAYLIGHT
BEGIN:STANDARD
TZOFFSETFROM:-0400
TZOFFSETTO:-0500
TZNAME:EST
DTSTART:20231105T060000
END:STANDARD
END:VTIMEZONE
BEGIN:VEVENT
DTSTART;VALUE=DATE:20220514
DTEND;VALUE=DATE:20220515
DTSTAMP:20260422T181446
CREATED:20220314T001723Z
LAST-MODIFIED:20220323T210542Z
UID:565-1652486400-1652572799@massata.com
SUMMARY:Westford Marathon
DESCRIPTION:
URL:https://massata.com/event/westford-marathon-2/
LOCATION:Westford Sportsmen’s Club\, 80 West Street\, Westford\, MA\, 01886
CATEGORIES:Marathon
ATTACH;FMTTYPE=image/png:https://massata.com/wp-content/uploads/2021/10/Westford_Logo_Final.png
END:VEVENT
END:VCALENDAR